BEGIN:VCALENDAR
PRODID:-//PUBBLE//an agenda//NL
VERSION:2.0
METHOD:PUBLISH
BEGIN:VEVENT
DTSTART:20180623T083000Z
DTEND:20180623T100000Z
DTSTAMP:20260425T102547Z
UID:356082b9-48aa-4d4b-967c-f97988a0a036
CREATED:20260425T102547Z
URL:https://www.achterhoekfoto.nl/agenda/item/207624
NAME:Expositie Change Now van Marian Tenkink AchterhoekFoto.nl
X-WR-CALNAME:Expositie Change Now van Marian Tenkink AchterhoekFoto.nl
X-ALT-DESC;FMTTYPE=text/html:<a href='https://www.achterhoekfoto.nl/agenda/item//207624'>https://achterhoekfoto.nl/agenda/item//207624</a> || Expositie met schilderijen van Marian Tenkink, met het thema 'de tien geboden'.

Kies nú voor het leven/Change Now. De expositie Change Now op het snijvlak van kunst en religie.

De tien woorden of tien geboden zijn oud, maar nog steeds actueel. Het gaat om tien richtlijnen die belangrijk zijn voor een menswaardig bestaan. Elke tijd vraag om nieuwe bezinning op wat op dit moment belangrijk is voor een wereld waarin het goed leven is voor allen.

Ervin Laszlo, stichter van de club van Boedapest stelde de tien streefregels op voor de 21ste eeuw. Marian Tenkink maakte er schilderijen over. Het doel van de schilderingen is om meer ruimte voor solidariteit, verantwoordelijkheid, wederzijds respect en eenheid over de wereld te verspreiden.

Het is tijd om nu voor het leven te kiezen. De tentoonstelling van de schilderijen heet Change Now. Er spreekt liefde uit voor de aarde en onze wereld.
DESCRIPTION:<a href='https://www.achterhoekfoto.nl/agenda/item//207624'>https://www.achterhoekfoto.nl/agenda/item//207624</a> || Expositie met schilderijen van Marian Tenkink, met het thema 'de tien geboden'.

Kies nú voor het leven/Change Now. De expositie Change Now op het snijvlak van kunst en religie.

De tien woorden of tien geboden zijn oud, maar nog steeds actueel. Het gaat om tien richtlijnen die belangrijk zijn voor een menswaardig bestaan. Elke tijd vraag om nieuwe bezinning op wat op dit moment belangrijk is voor een wereld waarin het goed leven is voor allen.

Ervin Laszlo, stichter van de club van Boedapest stelde de tien streefregels op voor de 21ste eeuw. Marian Tenkink maakte er schilderijen over. Het doel van de schilderingen is om meer ruimte voor solidariteit, verantwoordelijkheid, wederzijds respect en eenheid over de wereld te verspreiden.

Het is tijd om nu voor het leven te kiezen. De tentoonstelling van de schilderijen heet Change Now. Er spreekt liefde uit voor de aarde en onze wereld.
LAST-MODIFIED:20260425T102547Z
LOCATION:Doopsgezind kerkje Winterswijk Torenstraat 4 7101DC Winterswijk
SEQUENCE:0
STATUS:CONFIRMED
SUMMARY:Expositie Change Now van Marian Tenkink
TRANSP:OPAQUE
END:VEVENT
END:VCALENDAR
