BEGIN:VCALENDAR
PRODID:-//PUBBLE//an agenda//NL
VERSION:2.0
METHOD:PUBLISH
BEGIN:VEVENT
DTSTART:20180617T173000Z
DTEND:20180617T200000Z
DTSTAMP:20260423T145642Z
UID:bb5faab7-f303-4767-bf38-1a614ba63399
CREATED:20260423T145642Z
URL:https://www.achterhoekfoto.nl/agenda/item/207164
NAME:Concert Archduke Ensemble AchterhoekFoto.nl
X-WR-CALNAME:Concert Archduke Ensemble AchterhoekFoto.nl
X-ALT-DESC;FMTTYPE=text/html:<a href='https://www.achterhoekfoto.nl/agenda/item//207164'>https://achterhoekfoto.nl/agenda/item//207164</a> || <p>Concert Archduke Ensemble. </p>
DESCRIPTION:<a href='https://www.achterhoekfoto.nl/agenda/item//207164'>https://www.achterhoekfoto.nl/agenda/item//207164</a> || Concert Archduke Ensemble. 
LAST-MODIFIED:20260423T145642Z
LOCATION:Kapel op 't Rijsselt Mettrayweg 25 7211LC Eefde
SEQUENCE:0
STATUS:CONFIRMED
SUMMARY:Concert Archduke Ensemble
TRANSP:OPAQUE
END:VEVENT
END:VCALENDAR
