BEGIN:VCALENDAR
PRODID:-//PUBBLE//an agenda//NL
VERSION:2.0
METHOD:PUBLISH
BEGIN:VEVENT
DTSTART:20180618T080000Z
DTEND:20180618T100000Z
DTSTAMP:20260423T161354Z
UID:b0148986-92fb-43d3-8ac3-a66a5346e890
CREATED:20260423T161354Z
URL:https://www.achterhoekfoto.nl/agenda/item/206070
NAME:MargaKlompé: Lady W AchterhoekFoto.nl
X-WR-CALNAME:MargaKlompé: Lady W AchterhoekFoto.nl
X-ALT-DESC;FMTTYPE=text/html:<a href='https://www.achterhoekfoto.nl/agenda/item//206070'>https://achterhoekfoto.nl/agenda/item//206070</a> || Verkoop van kleding door Lady W.<br /><br />https://www.facebook.com/demolenberg/<br /><br />
DESCRIPTION:<a href='https://www.achterhoekfoto.nl/agenda/item//206070'>https://www.achterhoekfoto.nl/agenda/item//206070</a> || Verkoop van kleding door Lady W.https://www.facebook.com/demolenberg/
LAST-MODIFIED:20260423T161354Z
LOCATION:Stichting Zorgcombinatie Marga Klompé Ziekenhuisstraat 14 7141AN Groenlo
SEQUENCE:0
STATUS:CONFIRMED
SUMMARY:MargaKlompé: Lady W
TRANSP:OPAQUE
END:VEVENT
END:VCALENDAR
