BEGIN:VCALENDAR
PRODID:-//PUBBLE//an agenda//NL
VERSION:2.0
METHOD:PUBLISH
BEGIN:VEVENT
DTSTART:20180614T120000Z
DTEND:20180614T150000Z
DTSTAMP:20260421T195048Z
UID:5a83b7b0-7533-498f-9707-91a892843475
CREATED:20260421T195048Z
URL:https://www.achterhoekfoto.nl/agenda/item/206068
NAME:MargaKlompé: Zomermarkt AchterhoekFoto.nl
X-WR-CALNAME:MargaKlompé: Zomermarkt AchterhoekFoto.nl
X-ALT-DESC;FMTTYPE=text/html:<a href='https://www.achterhoekfoto.nl/agenda/item//206068'>https://achterhoekfoto.nl/agenda/item//206068</a> || Grote zomermarkt in de binnentuin. M.m.v. plaatstelijke middenstanders en hobbyisten. Live muziek op terras. <br /><br />https://www.facebook.com/demolenberg/<br /><br />
DESCRIPTION:<a href='https://www.achterhoekfoto.nl/agenda/item//206068'>https://www.achterhoekfoto.nl/agenda/item//206068</a> || Grote zomermarkt in de binnentuin. M.m.v. plaatstelijke middenstanders en hobbyisten. Live muziek op terras. https://www.facebook.com/demolenberg/
LAST-MODIFIED:20260421T195048Z
LOCATION:Stichting Zorgcombinatie Marga Klompé Ziekenhuisstraat 14 7141AN Groenlo
SEQUENCE:0
STATUS:CONFIRMED
SUMMARY:MargaKlompé: Zomermarkt
TRANSP:OPAQUE
END:VEVENT
END:VCALENDAR
