BEGIN:VCALENDAR
PRODID:-//PUBBLE//an agenda//NL
VERSION:2.0
METHOD:PUBLISH
BEGIN:VEVENT
DTSTART:20180822T193000Z
DTEND:20180825T213000Z
DTSTAMP:20260425T150405Z
UID:25ad2165-9bfe-43f0-ae80-f0346c40479d
CREATED:20260425T150405Z
URL:https://www.achterhoekfoto.nl/agenda/item/205953
NAME:Buitenfilm festival de Gruitpoort AchterhoekFoto.nl
X-WR-CALNAME:Buitenfilm festival de Gruitpoort AchterhoekFoto.nl
X-ALT-DESC;FMTTYPE=text/html:<a href='https://www.achterhoekfoto.nl/agenda/item//205953'>https://achterhoekfoto.nl/agenda/item//205953</a> || <p>Vier avonden genieten van een prachtige film onder de sterrenhemel op diverse locaties in Doetinchem.
Kijk voor de locaties en filmtitels op www.Gruitpoort.nl.
Toegang is gratis, maar neem wel je eigen stoel mee.</p>
DESCRIPTION:<a href='https://www.achterhoekfoto.nl/agenda/item//205953'>https://www.achterhoekfoto.nl/agenda/item//205953</a> || Vier avonden genieten van een prachtige film onder de sterrenhemel op diverse locaties in Doetinchem.
Kijk voor de locaties en filmtitels op www.Gruitpoort.nl.
Toegang is gratis, maar neem wel je eigen stoel mee.
LAST-MODIFIED:20260425T150405Z
LOCATION:Gruitpoortzaal /Amphion Filmhuis  Hofstraat 2 7001CD Doetinchem
SEQUENCE:0
STATUS:CONFIRMED
SUMMARY:Buitenfilm festival de Gruitpoort
TRANSP:OPAQUE
END:VEVENT
END:VCALENDAR
