BEGIN:VCALENDAR
PRODID:-//PUBBLE//an agenda//NL
VERSION:2.0
METHOD:PUBLISH
BEGIN:VEVENT
DTSTART:20180623T180000Z
DTEND:20180623T210000Z
DTSTAMP:20260425T173320Z
UID:3efe2f6d-8562-443b-9e38-6a4e57a24c96
CREATED:20260425T173320Z
URL:https://www.achterhoekfoto.nl/agenda/item/205397
NAME:Vriendenconcert Classic WM  AchterhoekFoto.nl
X-WR-CALNAME:Vriendenconcert Classic WM  AchterhoekFoto.nl
X-ALT-DESC;FMTTYPE=text/html:<a href='https://www.achterhoekfoto.nl/agenda/item//205397'>https://achterhoekfoto.nl/agenda/item//205397</a> || <p>Vriendenconcert Classic WM bij Openluchttheater Winterswijk.

</p>
DESCRIPTION:<a href='https://www.achterhoekfoto.nl/agenda/item//205397'>https://www.achterhoekfoto.nl/agenda/item//205397</a> || Vriendenconcert Classic WM bij Openluchttheater Winterswijk.


LAST-MODIFIED:20260425T173320Z
LOCATION:Openluchttheater Winterswijk de Huininkmaat 6 7101jj Winterswijk
SEQUENCE:0
STATUS:CONFIRMED
SUMMARY:Vriendenconcert Classic WM 
TRANSP:OPAQUE
END:VEVENT
END:VCALENDAR
