BEGIN:VCALENDAR
PRODID:-//PUBBLE//an agenda//NL
VERSION:2.0
METHOD:PUBLISH
BEGIN:VEVENT
DTSTART:20180617T110000Z
DTEND:20180617T150000Z
DTSTAMP:20260423T094012Z
UID:c0c8fe4d-2580-4f54-b927-3eef13f11efb
CREATED:20260423T094012Z
URL:https://www.achterhoekfoto.nl/agenda/item/204444
NAME:Fietstocht AchterhoekFoto.nl
X-WR-CALNAME:Fietstocht AchterhoekFoto.nl
X-ALT-DESC;FMTTYPE=text/html:<a href='https://www.achterhoekfoto.nl/agenda/item//204444'>https://achterhoekfoto.nl/agenda/item//204444</a> || <p>Op zondag 17 juni wordt er weer een fietstocht georganiseerd door het mooie landschap van Barchem en omgeving. Op deze middag worden leuke kleine paadjes en weggetjes bereden waar je misschien nog nooit bent geweest in een heel afwisselend landschap!
De tocht is ongeveer 30 km en er kan ingeschreven worden van 13.00 uur tot 14.00 uur in “de Wingerd”, aan de Ruurloseweg 1 te Barchem, om dan aansluitend de mooie tocht te fietsen. Onderweg is er voldoende gelegenheid om uit te rusten en eventueel iets te nuttigen. 
Bij terugkomst in “de Wingerd”  staat de koffie/thee of limonade klaar met iets lekkers er bij uit eigen keuken. Graag horen wij dan van jullie de ervaringen. Bij mooi weer zetten we de stoelen buiten! 
Veel fietsplezier
De kosten zijn € 4,00 pp en kinderen € 1,00 , dit komt geheel ten goede aan Stichting Garima en het oecumenische project “Onderwijs voor werkende kinderen in Bogotá”.
</p>
DESCRIPTION:<a href='https://www.achterhoekfoto.nl/agenda/item//204444'>https://www.achterhoekfoto.nl/agenda/item//204444</a> || Op zondag 17 juni wordt er weer een fietstocht georganiseerd door het mooie landschap van Barchem en omgeving. Op deze middag worden leuke kleine paadjes en weggetjes bereden waar je misschien nog nooit bent geweest in een heel afwisselend landschap!
De tocht is ongeveer 30 km en er kan ingeschreven worden van 13.00 uur tot 14.00 uur in “de Wingerd”, aan de Ruurloseweg 1 te Barchem, om dan aansluitend de mooie tocht te fietsen. Onderweg is er voldoende gelegenheid om uit te rusten en eventueel iets te nuttigen. 
Bij terugkomst in “de Wingerd”  staat de koffie/thee of limonade klaar met iets lekkers er bij uit eigen keuken. Graag horen wij dan van jullie de ervaringen. Bij mooi weer zetten we de stoelen buiten! 
Veel fietsplezier
De kosten zijn € 4,00 pp en kinderen € 1,00 , dit komt geheel ten goede aan Stichting Garima en het oecumenische project “Onderwijs voor werkende kinderen in Bogotá”.

LAST-MODIFIED:20260423T094012Z
LOCATION:VVV Lochem locatie wordt bij reserveren bekend gemaakt  Barchem
SEQUENCE:0
STATUS:CONFIRMED
SUMMARY:Fietstocht
TRANSP:OPAQUE
END:VEVENT
END:VCALENDAR
