BEGIN:VCALENDAR
PRODID:-//PUBBLE//an agenda//NL
VERSION:2.0
METHOD:PUBLISH
BEGIN:VEVENT
DTSTART:20180616T080000Z
DTEND:20180616T150000Z
DTSTAMP:20260422T132548Z
UID:6e4629ad-6b40-4513-95f8-c88d07a9b9a3
CREATED:20260422T132548Z
URL:https://www.achterhoekfoto.nl/agenda/item/203854
NAME:Antiekmarktje Zandbergstraat AchterhoekFoto.nl
X-WR-CALNAME:Antiekmarktje Zandbergstraat AchterhoekFoto.nl
X-ALT-DESC;FMTTYPE=text/html:<a href='https://www.achterhoekfoto.nl/agenda/item//203854'>https://achterhoekfoto.nl/agenda/item//203854</a> || <p>Kleinschalige antiek/broquante marktje op het pleintje aan de Zandbergstraat. Van 10.00 - 17.00 uur.
www.antiekdespinde.nl
</p>
DESCRIPTION:<a href='https://www.achterhoekfoto.nl/agenda/item//203854'>https://www.achterhoekfoto.nl/agenda/item//203854</a> || Kleinschalige antiek/broquante marktje op het pleintje aan de Zandbergstraat. Van 10.00 - 17.00 uur.
www.antiekdespinde.nl

LAST-MODIFIED:20260422T132548Z
LOCATION:Antiekmarktje Zandbergstraat Zandbergstraat 36 6981DR Doesburg
SEQUENCE:0
STATUS:CONFIRMED
SUMMARY:Antiekmarktje Zandbergstraat
TRANSP:OPAQUE
END:VEVENT
END:VCALENDAR
