BEGIN:VCALENDAR
PRODID:-//PUBBLE//an agenda//NL
VERSION:2.0
METHOD:PUBLISH
BEGIN:VEVENT
DTSTART:20180622T120000Z
DTEND:20180622T140000Z
DTSTAMP:20260425T014809Z
UID:f1734bb5-a096-418c-ba7d-c622a329ace4
CREATED:20260425T014809Z
URL:https://www.achterhoekfoto.nl/agenda/item/203849
NAME:Stadsrondrit paardentram AchterhoekFoto.nl
X-WR-CALNAME:Stadsrondrit paardentram AchterhoekFoto.nl
X-ALT-DESC;FMTTYPE=text/html:<a href='https://www.achterhoekfoto.nl/agenda/item//203849'>https://achterhoekfoto.nl/agenda/item//203849</a> || <p>Stap in de paardentram en kom alles te weten over de historische binnenstad. Reserveren bij VVV Doesburg. Vertrek 14.00 uur.</p>
DESCRIPTION:<a href='https://www.achterhoekfoto.nl/agenda/item//203849'>https://www.achterhoekfoto.nl/agenda/item//203849</a> || Stap in de paardentram en kom alles te weten over de historische binnenstad. Reserveren bij VVV Doesburg. Vertrek 14.00 uur.
LAST-MODIFIED:20260425T014809Z
LOCATION:VVV Doesburg Hanzeweg 1 6981BX Doesburg
SEQUENCE:0
STATUS:CONFIRMED
SUMMARY:Stadsrondrit paardentram
TRANSP:OPAQUE
END:VEVENT
END:VCALENDAR
