BEGIN:VCALENDAR
PRODID:-//PUBBLE//an agenda//NL
VERSION:2.0
METHOD:PUBLISH
BEGIN:VEVENT
DTSTART:20180615T120000Z
DTEND:20180615T140000Z
DTSTAMP:20260422T090446Z
UID:cec136dd-c0ee-4033-91c5-8f25b51167a0
CREATED:20260422T090446Z
URL:https://www.achterhoekfoto.nl/agenda/item/203848
NAME:Stadsrondrit paardentram AchterhoekFoto.nl
X-WR-CALNAME:Stadsrondrit paardentram AchterhoekFoto.nl
X-ALT-DESC;FMTTYPE=text/html:<a href='https://www.achterhoekfoto.nl/agenda/item//203848'>https://achterhoekfoto.nl/agenda/item//203848</a> || <p>Stap in de paardentram en kom alles te weten over de historische binnenstad. Reserveren bij VVV Doesburg. Vertrek 14.00 uur.</p>
DESCRIPTION:<a href='https://www.achterhoekfoto.nl/agenda/item//203848'>https://www.achterhoekfoto.nl/agenda/item//203848</a> || Stap in de paardentram en kom alles te weten over de historische binnenstad. Reserveren bij VVV Doesburg. Vertrek 14.00 uur.
LAST-MODIFIED:20260422T090446Z
LOCATION:VVV Doesburg Hanzeweg 1 6981BX Doesburg
SEQUENCE:0
STATUS:CONFIRMED
SUMMARY:Stadsrondrit paardentram
TRANSP:OPAQUE
END:VEVENT
END:VCALENDAR
