BEGIN:VCALENDAR
PRODID:-//PUBBLE//an agenda//NL
VERSION:2.0
METHOD:PUBLISH
BEGIN:VEVENT
DTSTART:20180617T113000Z
DTEND:20180617T123000Z
DTSTAMP:20260423T105408Z
UID:c3bf9f88-62f2-4ad4-856a-4de07858945a
CREATED:20260423T105408Z
URL:https://www.achterhoekfoto.nl/agenda/item/201781
NAME:Varen in Lochem AchterhoekFoto.nl
X-WR-CALNAME:Varen in Lochem AchterhoekFoto.nl
X-ALT-DESC;FMTTYPE=text/html:<a href='https://www.achterhoekfoto.nl/agenda/item//201781'>https://achterhoekfoto.nl/agenda/item//201781</a> || <p>Laat je meevoeren in de Berkelzomp. Het platbodemscheepje is een replica van de zomp waarmee vroeger handelsvaart werd onderhouden. Nu kun je een uur genieten van de prachtige omgeving.
Tevens mogelijk om 11.00 en 15.30 uur (bij voldoende deelname). Reserveren: VVV Lochem,0573 -251898.
</p>
DESCRIPTION:<a href='https://www.achterhoekfoto.nl/agenda/item//201781'>https://www.achterhoekfoto.nl/agenda/item//201781</a> || Laat je meevoeren in de Berkelzomp. Het platbodemscheepje is een replica van de zomp waarmee vroeger handelsvaart werd onderhouden. Nu kun je een uur genieten van de prachtige omgeving.
Tevens mogelijk om 11.00 en 15.30 uur (bij voldoende deelname). Reserveren: VVV Lochem,0573 -251898.

LAST-MODIFIED:20260423T105408Z
LOCATION: Ecologische Stapsteen Stijgoord Stijgoord 2 7241DC Lochem
SEQUENCE:0
STATUS:CONFIRMED
SUMMARY:Varen in Lochem
TRANSP:OPAQUE
END:VEVENT
END:VCALENDAR
