BEGIN:VCALENDAR
PRODID:-//PUBBLE//an agenda//NL
VERSION:2.0
METHOD:PUBLISH
BEGIN:VEVENT
DTSTART:20180624T070000Z
DTEND:20180624T150000Z
DTSTAMP:20260425T202713Z
UID:11494b45-2c94-4864-a9ee-50715b66ce9f
CREATED:20260425T202713Z
URL:https://www.achterhoekfoto.nl/agenda/item/201734
NAME:Fietsen en wandelen door het Betwist Grensland AchterhoekFoto.nl
X-WR-CALNAME:Fietsen en wandelen door het Betwist Grensland AchterhoekFoto.nl
X-ALT-DESC;FMTTYPE=text/html:<a href='https://www.achterhoekfoto.nl/agenda/item//201734'>https://achterhoekfoto.nl/agenda/item//201734</a> || <p>Ongetwijfeld hebt u wel eens door het prachtige buitengebied van de Achterhoek gefietst of gewandeld. Deze zondag is er een unieke kans om het landschap te zien hoe het was. De Stichting Historische Kring Kotten organiseert samen de Heimatvereine Oeding en Burlo een grensoverschrijdende fiets- en wandeltocht, waarbij u onderweg panelen met foto’s en korte tekst kunt bekijken op de plek waar de foto ooit is genomen.

Iemand zei ooit: ‘Kijken wat er niet meer is’. Doordat u door het natuurrijke landschap van Kotten, Oeding en Burlo beweegt, komt onderweg hier en daar de geschiedenis tot leven.  

U overschrijdt een aantal keren de grens en douaniers doen daar hun plicht. Met het aan u uitgereikte paspoort kunt u de grens overschrijden. Tussendoor lopen smokkelaars, of u ziet mensen op het land bezig zoals voor vijftig, zestig jaar geleden ging. 

De fietstocht van 31 km bevat een groot aantal panelen met interessante informatie. Onderweg kunt u de buitenkant van de historische boerderij Vardink bekijken. Uiteraard zijn er verschillende cateringplekken waar ook panelen zijn te bekijken. De wandelingen variëren van 4 tot 14 km. Middels verschillende gekleurde routes kunt u zelf een keuze maken.

Startpunten voor de wandeling zijn Oeding en Burlo bij de betreffende Heimathäuser. De activiteit is voor jong en oud. Voor kinderen zijn er nog opdrachten.

</p>
DESCRIPTION:<a href='https://www.achterhoekfoto.nl/agenda/item//201734'>https://www.achterhoekfoto.nl/agenda/item//201734</a> || Ongetwijfeld hebt u wel eens door het prachtige buitengebied van de Achterhoek gefietst of gewandeld. Deze zondag is er een unieke kans om het landschap te zien hoe het was. De Stichting Historische Kring Kotten organiseert samen de Heimatvereine Oeding en Burlo een grensoverschrijdende fiets- en wandeltocht, waarbij u onderweg panelen met foto’s en korte tekst kunt bekijken op de plek waar de foto ooit is genomen.

Iemand zei ooit: ‘Kijken wat er niet meer is’. Doordat u door het natuurrijke landschap van Kotten, Oeding en Burlo beweegt, komt onderweg hier en daar de geschiedenis tot leven.  

U overschrijdt een aantal keren de grens en douaniers doen daar hun plicht. Met het aan u uitgereikte paspoort kunt u de grens overschrijden. Tussendoor lopen smokkelaars, of u ziet mensen op het land bezig zoals voor vijftig, zestig jaar geleden ging. 

De fietstocht van 31 km bevat een groot aantal panelen met interessante informatie. Onderweg kunt u de buitenkant van de historische boerderij Vardink bekijken. Uiteraard zijn er verschillende cateringplekken waar ook panelen zijn te bekijken. De wandelingen variëren van 4 tot 14 km. Middels verschillende gekleurde routes kunt u zelf een keuze maken.

Startpunten voor de wandeling zijn Oeding en Burlo bij de betreffende Heimathäuser. De activiteit is voor jong en oud. Voor kinderen zijn er nog opdrachten.


LAST-MODIFIED:20260425T202713Z
LOCATION:Café Schreurs Kottenseweg 119 7107aa Winterswijk
SEQUENCE:0
STATUS:CONFIRMED
SUMMARY:Fietsen en wandelen door het Betwist Grensland
TRANSP:OPAQUE
END:VEVENT
END:VCALENDAR
