BEGIN:VCALENDAR
PRODID:-//PUBBLE//an agenda//NL
VERSION:2.0
METHOD:PUBLISH
BEGIN:VEVENT
DTSTART:20180624T020000Z
DTEND:20180624T120000Z
DTSTAMP:20260425T185719Z
UID:cf86a459-ab84-4e9c-9b32-8041ba5e885c
CREATED:20260425T185719Z
URL:https://www.achterhoekfoto.nl/agenda/item/201282
NAME:Wandelmarathon Lichtenvoorde AchterhoekFoto.nl
X-WR-CALNAME:Wandelmarathon Lichtenvoorde AchterhoekFoto.nl
X-ALT-DESC;FMTTYPE=text/html:<a href='https://www.achterhoekfoto.nl/agenda/item//201282'>https://achterhoekfoto.nl/agenda/item//201282</a> || <p>Om vijf uur ’s morgens valt dan het startschot van de 42 km 195 m lange wandeltocht door het landschap rondom Lichtenvoorde. Gezelligheid staat hoog in het vaandel tijdens deze tocht. Al pratend met medewandelaars wordt deze uitdaging een heel stuk lichter. Het is ook mogelijk om de 1/2 marathon te lopen. Wij hopen jullie in grote getalen te mogen begroeten.
Kosten € 7,50 p.p. 1/2 marathon € 5,00 p.p.
Vanaf 04:30 uur kan men voor de hele marathon een startbewijs kopen. Voor de halve marathon om 08:00 uur, de start is dan om 08:30 uur.
Starten vanaf de Markt. 

Meer informatie op www.a4dlichtenvoorde.nl </p>
DESCRIPTION:<a href='https://www.achterhoekfoto.nl/agenda/item//201282'>https://www.achterhoekfoto.nl/agenda/item//201282</a> || Om vijf uur ’s morgens valt dan het startschot van de 42 km 195 m lange wandeltocht door het landschap rondom Lichtenvoorde. Gezelligheid staat hoog in het vaandel tijdens deze tocht. Al pratend met medewandelaars wordt deze uitdaging een heel stuk lichter. Het is ook mogelijk om de 1/2 marathon te lopen. Wij hopen jullie in grote getalen te mogen begroeten.
Kosten € 7,50 p.p. 1/2 marathon € 5,00 p.p.
Vanaf 04:30 uur kan men voor de hele marathon een startbewijs kopen. Voor de halve marathon om 08:00 uur, de start is dan om 08:30 uur.
Starten vanaf de Markt. 

Meer informatie op www.a4dlichtenvoorde.nl 
LAST-MODIFIED:20260425T185719Z
LOCATION:Centrum Markt e.o. - 7131DG Lichtenvoorde
SEQUENCE:0
STATUS:CONFIRMED
SUMMARY:Wandelmarathon Lichtenvoorde
TRANSP:OPAQUE
END:VEVENT
END:VCALENDAR
