BEGIN:VCALENDAR
PRODID:-//PUBBLE//an agenda//NL
VERSION:2.0
METHOD:PUBLISH
BEGIN:VEVENT
DTSTART:20180819T080000Z
DTEND:20180819T150000Z
DTSTAMP:20260424T102647Z
UID:23030bcf-3812-4356-ae78-9450b4948243
CREATED:20260424T102647Z
URL:https://www.achterhoekfoto.nl/agenda/item/200456
NAME:Open nazomer tuin De Bosuil AchterhoekFoto.nl
X-WR-CALNAME:Open nazomer tuin De Bosuil AchterhoekFoto.nl
X-ALT-DESC;FMTTYPE=text/html:<a href='https://www.achterhoekfoto.nl/agenda/item//200456'>https://achterhoekfoto.nl/agenda/item//200456</a> || U bent van harte welkom in onze landelijke tuin in het bosrijke Woold, één van de mooiste plekjes tussen Winterswijk en Aalten.
U kunt bij ons volop genieten van grote borders met alle kleurenpracht die de nazomer te bieden heeft. Er is gelegenheid om een kopje koffie of thee te drinken en te genieten van de ruimte en de rust die onze tuin biedt. Veel gezellige zitjes nodigen uit om te ontspannen in onze tuin, waar de bomen, planten en bloemen zorgen voor verrassende doorkijkjes.
Groepen zijn welkom op andere dagen, op afspraak, tot eind oktober.
In onze tuin zijn honden niet welkom.
DESCRIPTION:<a href='https://www.achterhoekfoto.nl/agenda/item//200456'>https://www.achterhoekfoto.nl/agenda/item//200456</a> || U bent van harte welkom in onze landelijke tuin in het bosrijke Woold, één van de mooiste plekjes tussen Winterswijk en Aalten.
U kunt bij ons volop genieten van grote borders met alle kleurenpracht die de nazomer te bieden heeft. Er is gelegenheid om een kopje koffie of thee te drinken en te genieten van de ruimte en de rust die onze tuin biedt. Veel gezellige zitjes nodigen uit om te ontspannen in onze tuin, waar de bomen, planten en bloemen zorgen voor verrassende doorkijkjes.
Groepen zijn welkom op andere dagen, op afspraak, tot eind oktober.
In onze tuin zijn honden niet welkom.
LAST-MODIFIED:20260424T102647Z
LOCATION:Tuin de Bosuil Blekkinkhofweg 12 7108AL Winterswijk
SEQUENCE:0
STATUS:CONFIRMED
SUMMARY:Open nazomer tuin De Bosuil
TRANSP:OPAQUE
END:VEVENT
END:VCALENDAR
