BEGIN:VCALENDAR
PRODID:-//PUBBLE//an agenda//NL
VERSION:2.0
METHOD:PUBLISH
BEGIN:VEVENT
DTSTART:20180614T113000Z
DTEND:20180614T150000Z
DTSTAMP:20260421T183308Z
UID:14862cbf-ef74-4097-8a6a-c1054dc6f714
CREATED:20260421T183308Z
URL:https://www.achterhoekfoto.nl/agenda/item/200429
NAME:Senioren fietstocht AchterhoekFoto.nl
X-WR-CALNAME:Senioren fietstocht AchterhoekFoto.nl
X-ALT-DESC;FMTTYPE=text/html:<a href='https://www.achterhoekfoto.nl/agenda/item//200429'>https://achterhoekfoto.nl/agenda/item//200429</a> || <p>Elke donderdag is er een fietstocht voor senioren. De route is 25 km. en laat je alle mooie plekjes zien in de omgeving van Lochem. Het vertrek is om 13:30 uur vanaf de kleine markt in Lochem. Halverwege is er een pauze, dus neem je portemonnee mee!</p>
DESCRIPTION:<a href='https://www.achterhoekfoto.nl/agenda/item//200429'>https://www.achterhoekfoto.nl/agenda/item//200429</a> || Elke donderdag is er een fietstocht voor senioren. De route is 25 km. en laat je alle mooie plekjes zien in de omgeving van Lochem. Het vertrek is om 13:30 uur vanaf de kleine markt in Lochem. Halverwege is er een pauze, dus neem je portemonnee mee!
LAST-MODIFIED:20260421T183308Z
LOCATION:Gudulakerk Markt  1 7241AA Lochem
SEQUENCE:0
STATUS:CONFIRMED
SUMMARY:Senioren fietstocht
TRANSP:OPAQUE
END:VEVENT
END:VCALENDAR
