BEGIN:VCALENDAR
PRODID:-//PUBBLE//an agenda//NL
VERSION:2.0
METHOD:PUBLISH
BEGIN:VEVENT
DTSTART:20180619T120000Z
DTEND:20180619T140000Z
DTSTAMP:20260423T214648Z
UID:33e38700-dcc9-4ccb-a90e-81f4f658c50f
CREATED:20260423T214648Z
URL:https://www.achterhoekfoto.nl/agenda/item/200411
NAME:Stadswandeling Lochem AchterhoekFoto.nl
X-WR-CALNAME:Stadswandeling Lochem AchterhoekFoto.nl
X-ALT-DESC;FMTTYPE=text/html:<a href='https://www.achterhoekfoto.nl/agenda/item//200411'>https://achterhoekfoto.nl/agenda/item//200411</a> || <p>Wandel onder leiding van een VVV gids door het historische centrum van Lochem. Ontdek de bijzondere geveltjes, mooie gebouwen en locaties met een verhaal. 
Inclusief bezoek aan de Gudulakerk. 
Vertrek om 14.00 uur bij VVV Lochem, Markt 2. 
Prijs: 5,00 per persoon, reserveren niet noodzakelijk.
</p>
DESCRIPTION:<a href='https://www.achterhoekfoto.nl/agenda/item//200411'>https://www.achterhoekfoto.nl/agenda/item//200411</a> || Wandel onder leiding van een VVV gids door het historische centrum van Lochem. Ontdek de bijzondere geveltjes, mooie gebouwen en locaties met een verhaal. 
Inclusief bezoek aan de Gudulakerk. 
Vertrek om 14.00 uur bij VVV Lochem, Markt 2. 
Prijs: 5,00 per persoon, reserveren niet noodzakelijk.

LAST-MODIFIED:20260423T214648Z
LOCATION:Gudulakerk Markt  1 7241AA Lochem
SEQUENCE:0
STATUS:CONFIRMED
SUMMARY:Stadswandeling Lochem
TRANSP:OPAQUE
END:VEVENT
END:VCALENDAR
