BEGIN:VCALENDAR
PRODID:-//PUBBLE//an agenda//NL
VERSION:2.0
METHOD:PUBLISH
BEGIN:VEVENT
DTSTART:20180614T180000Z
DTEND:20180614T223000Z
DTSTAMP:20260422T015703Z
UID:edbbde6b-e423-44a8-b470-6dc80cc472f8
CREATED:20260422T015703Z
URL:https://www.achterhoekfoto.nl/agenda/item/199974
NAME:Blaudzun AchterhoekFoto.nl
X-WR-CALNAME:Blaudzun AchterhoekFoto.nl
X-ALT-DESC;FMTTYPE=text/html:<a href='https://www.achterhoekfoto.nl/agenda/item//199974'>https://achterhoekfoto.nl/agenda/item//199974</a> || <p>Op de eerste dag van het nieuwe jaar bracht Blaudzun de nieuwe track ‘_hey now’ uit. De song is een voorbode van zijn nieuwe album ‘_UP_’ dat exact tien jaar na de release van zijn debuutalbum op 13 april verschijnt.

‘_UP_’ is het derde deel van de albumtrilogie ‘Jupiter’ waarvan in 2016 en 2017 de eerste delen verschenen. Het derde deel belichaamt voor de indierockzanger “het middenstuk van het drieluik, waarbij deel I en deel II de zijpanelen lijken te vormen”.
Naast de song ‘_hey now’ die door NPO Radio 2 werd verkozen als eerste Topsong van 2018 bevat het album 11 liedjes die zich kenmerken door veelzijdige melodieën, dansbare melancholie, en een intrigerend indiepopgeluid met de nadruk op Blaudzun’s onmiskenbare stem.

Meld je aan voor het Facebook event.
 
https://www.facebook.com/events/1762640957126115/</p>
DESCRIPTION:<a href='https://www.achterhoekfoto.nl/agenda/item//199974'>https://www.achterhoekfoto.nl/agenda/item//199974</a> || Op de eerste dag van het nieuwe jaar bracht Blaudzun de nieuwe track ‘_hey now’ uit. De song is een voorbode van zijn nieuwe album ‘_UP_’ dat exact tien jaar na de release van zijn debuutalbum op 13 april verschijnt.

‘_UP_’ is het derde deel van de albumtrilogie ‘Jupiter’ waarvan in 2016 en 2017 de eerste delen verschenen. Het derde deel belichaamt voor de indierockzanger “het middenstuk van het drieluik, waarbij deel I en deel II de zijpanelen lijken te vormen”.
Naast de song ‘_hey now’ die door NPO Radio 2 werd verkozen als eerste Topsong van 2018 bevat het album 11 liedjes die zich kenmerken door veelzijdige melodieën, dansbare melancholie, en een intrigerend indiepopgeluid met de nadruk op Blaudzun’s onmiskenbare stem.

Meld je aan voor het Facebook event.
 
https://www.facebook.com/events/1762640957126115/
LAST-MODIFIED:20260422T015703Z
LOCATION:DRU Cultuurfabriek Hutteweg 24 7071 BV Ulft
SEQUENCE:0
STATUS:CONFIRMED
SUMMARY:Blaudzun
TRANSP:OPAQUE
END:VEVENT
END:VCALENDAR
