BEGIN:VCALENDAR
PRODID:-//PUBBLE//an agenda//NL
VERSION:2.0
METHOD:PUBLISH
BEGIN:VEVENT
DTSTART:20180620T083000Z
DTEND:20180620T113000Z
DTSTAMP:20260424T013938Z
UID:c38fbb75-6379-4a92-8128-f770219ddee3
CREATED:20260424T013938Z
URL:https://www.achterhoekfoto.nl/agenda/item/199364
NAME:Lezing Monique Hafkamp AchterhoekFoto.nl
X-WR-CALNAME:Lezing Monique Hafkamp AchterhoekFoto.nl
X-ALT-DESC;FMTTYPE=text/html:<a href='https://www.achterhoekfoto.nl/agenda/item//199364'>https://achterhoekfoto.nl/agenda/item//199364</a> || <p>Het Nieuwe Bouwen/Bauhaus/Le Corbusier 	Drs. Monique Hafkamp
Drs. Monique Hafkamp toont hoe begin 20e eeuw een vernieuwing in de architectuur op gang kwam; enerzijds als reactie op de historische stijlen die in de 19e eeuw populair waren, anderzijds vanuit de wens een moderne bouwkunst in vorm en constructie te ontwikkelen in een moderne tijd. Dit nieuwe bouwen, onder meer van Bauhaus en Le Corbusier, heeft een groot deel van de 20e eeuw de moderne architectuur bepaald. Maakt u kennis met de ‘International Style’, zowel in Nederland als daarbuiten!
	
</p>
DESCRIPTION:<a href='https://www.achterhoekfoto.nl/agenda/item//199364'>https://www.achterhoekfoto.nl/agenda/item//199364</a> || Het Nieuwe Bouwen/Bauhaus/Le Corbusier 	Drs. Monique Hafkamp
Drs. Monique Hafkamp toont hoe begin 20e eeuw een vernieuwing in de architectuur op gang kwam; enerzijds als reactie op de historische stijlen die in de 19e eeuw populair waren, anderzijds vanuit de wens een moderne bouwkunst in vorm en constructie te ontwikkelen in een moderne tijd. Dit nieuwe bouwen, onder meer van Bauhaus en Le Corbusier, heeft een groot deel van de 20e eeuw de moderne architectuur bepaald. Maakt u kennis met de ‘International Style’, zowel in Nederland als daarbuiten!
	

LAST-MODIFIED:20260424T013938Z
LOCATION:'t Trefpunt Molenweg 53-55 7213XD Gorssel
SEQUENCE:0
STATUS:CONFIRMED
SUMMARY:Lezing Monique Hafkamp
TRANSP:OPAQUE
END:VEVENT
END:VCALENDAR
