BEGIN:VCALENDAR
PRODID:-//PUBBLE//an agenda//NL
VERSION:2.0
METHOD:PUBLISH
BEGIN:VEVENT
DTSTART:20180819T084500Z
DTEND:20180819T100000Z
DTSTAMP:20260424T114143Z
UID:ae63ea49-d178-44c4-ac56-4998f8ae5ee1
CREATED:20260424T114143Z
URL:https://www.achterhoekfoto.nl/agenda/item/199318
NAME:Oecumenische viering in de openlucht AchterhoekFoto.nl
X-WR-CALNAME:Oecumenische viering in de openlucht AchterhoekFoto.nl
X-ALT-DESC;FMTTYPE=text/html:<a href='https://www.achterhoekfoto.nl/agenda/item//199318'>https://achterhoekfoto.nl/agenda/item//199318</a> || <p>Oecumenische viering viering in de pastorie tuin van de protestantse kerk</p>
DESCRIPTION:<a href='https://www.achterhoekfoto.nl/agenda/item//199318'>https://www.achterhoekfoto.nl/agenda/item//199318</a> || Oecumenische viering viering in de pastorie tuin van de protestantse kerk
LAST-MODIFIED:20260424T114143Z
LOCATION:Protestantse kerk Dorpsstraat 16 7234SN Wichmond
SEQUENCE:0
STATUS:CONFIRMED
SUMMARY:Oecumenische viering in de openlucht
TRANSP:OPAQUE
END:VEVENT
END:VCALENDAR
