BEGIN:VCALENDAR
PRODID:-//PUBBLE//an agenda//NL
VERSION:2.0
METHOD:PUBLISH
BEGIN:VEVENT
DTSTART:20180819T100000Z
DTEND:20180819T170000Z
DTSTAMP:20260424T142135Z
UID:35a9480d-0530-4b1f-bbb3-9c606e8a07c8
CREATED:20260424T142135Z
URL:https://www.achterhoekfoto.nl/agenda/item/199134
NAME:Oriënteringsrit AchterhoekFoto.nl
X-WR-CALNAME:Oriënteringsrit AchterhoekFoto.nl
X-ALT-DESC;FMTTYPE=text/html:<a href='https://www.achterhoekfoto.nl/agenda/item//199134'>https://achterhoekfoto.nl/agenda/item//199134</a> || <p>De ruim 30 kilometer lange fietstocht dat d.m.v. aanwijzingen zo goed mogelijk te fietsen.</p>
DESCRIPTION:<a href='https://www.achterhoekfoto.nl/agenda/item//199134'>https://www.achterhoekfoto.nl/agenda/item//199134</a> || De ruim 30 kilometer lange fietstocht dat d.m.v. aanwijzingen zo goed mogelijk te fietsen.
LAST-MODIFIED:20260424T142135Z
LOCATION:Oranjecomite Vierakker-Wichmond Lindenselaak 11  Wichmond
SEQUENCE:0
STATUS:CONFIRMED
SUMMARY:Oriënteringsrit
TRANSP:OPAQUE
END:VEVENT
END:VCALENDAR
