BEGIN:VCALENDAR
PRODID:-//PUBBLE//an agenda//NL
VERSION:2.0
METHOD:PUBLISH
BEGIN:VEVENT
DTSTART:20180823T170000Z
DTEND:20180823T210000Z
DTSTAMP:20260426T021447Z
UID:b1d984aa-9dec-4109-b88f-800f815916e3
CREATED:20260426T021447Z
URL:https://www.achterhoekfoto.nl/agenda/item/199127
NAME:Seniorensoos AchterhoekFoto.nl
X-WR-CALNAME:Seniorensoos AchterhoekFoto.nl
X-ALT-DESC;FMTTYPE=text/html:<a href='https://www.achterhoekfoto.nl/agenda/item//199127'>https://achterhoekfoto.nl/agenda/item//199127</a> || <p>Een gezellige avond voor de senioren uit Wichmond en Vierakker.</p>
DESCRIPTION:<a href='https://www.achterhoekfoto.nl/agenda/item//199127'>https://www.achterhoekfoto.nl/agenda/item//199127</a> || Een gezellige avond voor de senioren uit Wichmond en Vierakker.
LAST-MODIFIED:20260426T021447Z
LOCATION:Koffiehuis Magdalena Vierakkersestraatweg 37 7233SH Vierakker
SEQUENCE:0
STATUS:CONFIRMED
SUMMARY:Seniorensoos
TRANSP:OPAQUE
END:VEVENT
END:VCALENDAR
