BEGIN:VCALENDAR
PRODID:-//PUBBLE//an agenda//NL
VERSION:2.0
METHOD:PUBLISH
BEGIN:VEVENT
DTSTART:20180614T173000Z
DTEND:20180614T200000Z
DTSTAMP:20260422T001631Z
UID:621f99a7-91ef-407a-8fd1-451d3e7b14da
CREATED:20260422T001631Z
URL:https://www.achterhoekfoto.nl/agenda/item/198664
NAME:Bestuursvergadering Dorpsraad Kilder AchterhoekFoto.nl
X-WR-CALNAME:Bestuursvergadering Dorpsraad Kilder AchterhoekFoto.nl
X-ALT-DESC;FMTTYPE=text/html:<a href='https://www.achterhoekfoto.nl/agenda/item//198664'>https://achterhoekfoto.nl/agenda/item//198664</a> || <p>De Dorpsraad Kilder nodigt alle Kildernaren uit om, indien gewenst, een agendapunt aan te dragen via secretaris@mooikilder.nl </p>
DESCRIPTION:<a href='https://www.achterhoekfoto.nl/agenda/item//198664'>https://www.achterhoekfoto.nl/agenda/item//198664</a> || De Dorpsraad Kilder nodigt alle Kildernaren uit om, indien gewenst, een agendapunt aan te dragen via secretaris@mooikilder.nl 
LAST-MODIFIED:20260422T001631Z
LOCATION:'t Kelrehuus Zuiderstraat 12 7035AW Kilder
SEQUENCE:0
STATUS:CONFIRMED
SUMMARY:Bestuursvergadering Dorpsraad Kilder
TRANSP:OPAQUE
END:VEVENT
END:VCALENDAR
