BEGIN:VCALENDAR
PRODID:-//PUBBLE//an agenda//NL
VERSION:2.0
METHOD:PUBLISH
BEGIN:VEVENT
DTSTART:20180621T160000Z
DTEND:20180621T200000Z
DTSTAMP:20260424T181209Z
UID:b2dcc6f9-8316-4c6a-af60-900faabccf61
CREATED:20260424T181209Z
URL:https://www.achterhoekfoto.nl/agenda/item/198625
NAME:Aan tafel met Boer Willem AchterhoekFoto.nl
X-WR-CALNAME:Aan tafel met Boer Willem AchterhoekFoto.nl
X-ALT-DESC;FMTTYPE=text/html:<a href='https://www.achterhoekfoto.nl/agenda/item//198625'>https://achterhoekfoto.nl/agenda/item//198625</a> || <p>Aan tafel met Boer Willem

Heb je het al gehoord? Boer Willem heeft zijn melkkoeien ingeruild voor een grote groentetuin “Lief lekkerland” in Lochem.

Wil je zijn bijzondere biologische groenten proeven? En vind je het leuk om Boer Willem te ontmoeten en zijn levensverhaal, waaronder zijn deelname aan het populaire datingprogramma voor boeren, te horen? Dat kan! In samenwerking met restaurant Kawop in Lochem organiseren we een avondvullend programma ‘Aan tafel met Boer Willem’
</p>
DESCRIPTION:<a href='https://www.achterhoekfoto.nl/agenda/item//198625'>https://www.achterhoekfoto.nl/agenda/item//198625</a> || Aan tafel met Boer Willem

Heb je het al gehoord? Boer Willem heeft zijn melkkoeien ingeruild voor een grote groentetuin “Lief lekkerland” in Lochem.

Wil je zijn bijzondere biologische groenten proeven? En vind je het leuk om Boer Willem te ontmoeten en zijn levensverhaal, waaronder zijn deelname aan het populaire datingprogramma voor boeren, te horen? Dat kan! In samenwerking met restaurant Kawop in Lochem organiseren we een avondvullend programma ‘Aan tafel met Boer Willem’

LAST-MODIFIED:20260424T181209Z
LOCATION:Restaurant Kawop Markt 23 7241AA Lochem
SEQUENCE:0
STATUS:CONFIRMED
SUMMARY:Aan tafel met Boer Willem
TRANSP:OPAQUE
END:VEVENT
END:VCALENDAR
