BEGIN:VCALENDAR
PRODID:-//PUBBLE//an agenda//NL
VERSION:2.0
METHOD:PUBLISH
BEGIN:VEVENT
DTSTART:20180624T083000Z
DTEND:20180624T110000Z
DTSTAMP:20260425T233300Z
UID:08a4fa25-fc80-4938-a642-0c4d92d5d213
CREATED:20260425T233300Z
URL:https://www.achterhoekfoto.nl/agenda/item/197771
NAME:Zomerfietstocht Zondag 24 Juni Halle AchterhoekFoto.nl
X-WR-CALNAME:Zomerfietstocht Zondag 24 Juni Halle AchterhoekFoto.nl
X-ALT-DESC;FMTTYPE=text/html:<a href='https://www.achterhoekfoto.nl/agenda/item//197771'>https://achterhoekfoto.nl/agenda/item//197771</a> || <p>Op Zondag 24 Juni is er weer een Zomerfietstocht, over een afstand van 35 en 45 km, voor het hele gezin.
zowel start en finish zijn bij het dorpshuis de ,,Korenaar '' aan
de dorpsstraat 85 te Halle.
Inschrijven vanaf 10.30 tot 13.00
Na afloop gratis koffie met krentenwegge of een drankje,
kosten € 4.00 per persoon, voor meer info: 06-12106832 </p>
DESCRIPTION:<a href='https://www.achterhoekfoto.nl/agenda/item//197771'>https://www.achterhoekfoto.nl/agenda/item//197771</a> || Op Zondag 24 Juni is er weer een Zomerfietstocht, over een afstand van 35 en 45 km, voor het hele gezin.
zowel start en finish zijn bij het dorpshuis de ,,Korenaar '' aan
de dorpsstraat 85 te Halle.
Inschrijven vanaf 10.30 tot 13.00
Na afloop gratis koffie met krentenwegge of een drankje,
kosten € 4.00 per persoon, voor meer info: 06-12106832 
LAST-MODIFIED:20260425T233300Z
LOCATION:Dorpshuis  Dorpsstraat 85 7025AC Halle
SEQUENCE:0
STATUS:CONFIRMED
SUMMARY:Zomerfietstocht Zondag 24 Juni Halle
TRANSP:OPAQUE
END:VEVENT
END:VCALENDAR
