BEGIN:VCALENDAR
PRODID:-//PUBBLE//an agenda//NL
VERSION:2.0
METHOD:PUBLISH
BEGIN:VEVENT
DTSTART:20180817T070000Z
DTEND:20180817T190000Z
DTSTAMP:20260421T082430Z
UID:4447666c-3d6d-4b95-a1c8-91357c908e84
CREATED:20260421T082430Z
URL:https://www.achterhoekfoto.nl/agenda/item/197556
NAME:Restantenmarkt AchterhoekFoto.nl
X-WR-CALNAME:Restantenmarkt AchterhoekFoto.nl
X-ALT-DESC;FMTTYPE=text/html:<a href='https://www.achterhoekfoto.nl/agenda/item//197556'>https://achterhoekfoto.nl/agenda/item//197556</a> || <p>Winkeliers verkopen de restanten van het seizoen tegen extra lage prijzen van 9:00 uur tot 21:00 uur!

Leuk voor koopjesjagers: er is een restantenmarkt in het winkelcentrum van Winterswijk. Een uitgelezen kans om prima artikelen te kopen tegen stuntprijzen. Winkeliers willen met de restantenmarkt in één dag af van de overgebleven producten uit de opruiming. Erg fijn voor jouw portemonnee, dat is pas aantrekkelijk winkelen!</p>
DESCRIPTION:<a href='https://www.achterhoekfoto.nl/agenda/item//197556'>https://www.achterhoekfoto.nl/agenda/item//197556</a> || Winkeliers verkopen de restanten van het seizoen tegen extra lage prijzen van 9:00 uur tot 21:00 uur!

Leuk voor koopjesjagers: er is een restantenmarkt in het winkelcentrum van Winterswijk. Een uitgelezen kans om prima artikelen te kopen tegen stuntprijzen. Winkeliers willen met de restantenmarkt in één dag af van de overgebleven producten uit de opruiming. Erg fijn voor jouw portemonnee, dat is pas aantrekkelijk winkelen!
LAST-MODIFIED:20260421T082430Z
LOCATION:Jacobskerk Markt 2a 7101DB Winterswijk
SEQUENCE:0
STATUS:CONFIRMED
SUMMARY:Restantenmarkt
TRANSP:OPAQUE
END:VEVENT
END:VCALENDAR
