BEGIN:VCALENDAR
PRODID:-//PUBBLE//an agenda//NL
VERSION:2.0
METHOD:PUBLISH
BEGIN:VEVENT
DTSTART:20180616T183000Z
DTEND:20180616T215900Z
DTSTAMP:20260422T202136Z
UID:c8c093b7-09c0-4441-9168-7d9e12c9ba45
CREATED:20260422T202136Z
URL:https://www.achterhoekfoto.nl/agenda/item/197534
NAME:Loco Live AchterhoekFoto.nl
X-WR-CALNAME:Loco Live AchterhoekFoto.nl
X-ALT-DESC;FMTTYPE=text/html:<a href='https://www.achterhoekfoto.nl/agenda/item//197534'>https://achterhoekfoto.nl/agenda/item//197534</a> || <p>Tropische sferen, foodtruck, BBQ, cocktailbar: Loco live, een ongekende mix van gezelligheid!

Koop nu je tickets in de voorverkoop voor maar 10,- per dag! (Aan de kassa: € 15,-) Een passe-partout heb je ook al voor maar 15,-.

Je kunt de tickets bestellen via onze site: http://www.locolievelde.nl/ of via de knop 'OTicket' op de Facebookpagina van Loco Live of Loco eten en drinken. De tickets zijn ook verkrijgbaar aan de bar bij Loco eten en drinken.

Zaterdag 16 juni:
U2 - (Crystal Dream). 
Bon Jovi - (Bounce).

Zondag 17 juni:
Normaal - (Doe Normaal Joh).
Status Quo - (Status Quotes).

Houd de facebookpagina in de gaten voor de laatste updates!
www.facebook.com/LocoLiveLievelde/</p>
DESCRIPTION:<a href='https://www.achterhoekfoto.nl/agenda/item//197534'>https://www.achterhoekfoto.nl/agenda/item//197534</a> || Tropische sferen, foodtruck, BBQ, cocktailbar: Loco live, een ongekende mix van gezelligheid!

Koop nu je tickets in de voorverkoop voor maar 10,- per dag! (Aan de kassa: € 15,-) Een passe-partout heb je ook al voor maar 15,-.

Je kunt de tickets bestellen via onze site: http://www.locolievelde.nl/ of via de knop 'OTicket' op de Facebookpagina van Loco Live of Loco eten en drinken. De tickets zijn ook verkrijgbaar aan de bar bij Loco eten en drinken.

Zaterdag 16 juni:
U2 - (Crystal Dream). 
Bon Jovi - (Bounce).

Zondag 17 juni:
Normaal - (Doe Normaal Joh).
Status Quo - (Status Quotes).

Houd de facebookpagina in de gaten voor de laatste updates!
www.facebook.com/LocoLiveLievelde/
LAST-MODIFIED:20260422T202136Z
LOCATION:Loco Lievelde Lievelderweg 118 7137MX Lievelde
SEQUENCE:0
STATUS:CONFIRMED
SUMMARY:Loco Live
TRANSP:OPAQUE
END:VEVENT
END:VCALENDAR
