BEGIN:VCALENDAR
PRODID:-//PUBBLE//an agenda//NL
VERSION:2.0
METHOD:PUBLISH
BEGIN:VEVENT
DTSTART:20180617T070000Z
DTEND:20180617T130000Z
DTSTAMP:20260423T002248Z
UID:e2407b84-842b-4bad-b783-8225ce09a18e
CREATED:20260423T002248Z
URL:https://www.achterhoekfoto.nl/agenda/item/197532
NAME:Survivalrun Harreveld AchterhoekFoto.nl
X-WR-CALNAME:Survivalrun Harreveld AchterhoekFoto.nl
X-ALT-DESC;FMTTYPE=text/html:<a href='https://www.achterhoekfoto.nl/agenda/item//197532'>https://achterhoekfoto.nl/agenda/item//197532</a> || Een sport voor jong en oud, zowel recreatief als in wedstrijdverband. Een avontuurlijke uitdaging voor de deelnemers en een aantrekkelijk schouwspel voor het publiek!
DESCRIPTION:<a href='https://www.achterhoekfoto.nl/agenda/item//197532'>https://www.achterhoekfoto.nl/agenda/item//197532</a> || Een sport voor jong en oud, zowel recreatief als in wedstrijdverband. Een avontuurlijke uitdaging voor de deelnemers en een aantrekkelijk schouwspel voor het publiek!
LAST-MODIFIED:20260423T002248Z
LOCATION:KSH terrein Looweg 25 7135jh Harreveld
SEQUENCE:0
STATUS:CONFIRMED
SUMMARY:Survivalrun Harreveld
TRANSP:OPAQUE
END:VEVENT
END:VCALENDAR
