BEGIN:VCALENDAR
PRODID:-//PUBBLE//an agenda//NL
VERSION:2.0
METHOD:PUBLISH
BEGIN:VEVENT
DTSTART:20180617T090000Z
DTEND:20180617T140000Z
DTSTAMP:20260423T060348Z
UID:c0b148f4-f5dd-47ec-b84f-0cb94c3cd273
CREATED:20260423T060348Z
URL:https://www.achterhoekfoto.nl/agenda/item/197176
NAME:Lekker naar de boer AchterhoekFoto.nl
X-WR-CALNAME:Lekker naar de boer AchterhoekFoto.nl
X-ALT-DESC;FMTTYPE=text/html:<a href='https://www.achterhoekfoto.nl/agenda/item//197176'>https://achterhoekfoto.nl/agenda/item//197176</a> || <p>Kennismakingsdag voor belangstellenden voor biologische teelt van groenten, fruit en kruiden.
Rondleiding over het terrein vol voorbeelden van duurzaam ontwerpen: permacultuur, voedselbos, rioolwaterzuivering met planten, stoken op streekhout. Ook zijn er diverse huisgemaakte producten te proeven. Voor kinderen zijn er ontdekkingstochten.</p>
DESCRIPTION:<a href='https://www.achterhoekfoto.nl/agenda/item//197176'>https://www.achterhoekfoto.nl/agenda/item//197176</a> || Kennismakingsdag voor belangstellenden voor biologische teelt van groenten, fruit en kruiden.
Rondleiding over het terrein vol voorbeelden van duurzaam ontwerpen: permacultuur, voedselbos, rioolwaterzuivering met planten, stoken op streekhout. Ook zijn er diverse huisgemaakte producten te proeven. Voor kinderen zijn er ontdekkingstochten.
LAST-MODIFIED:20260423T060348Z
LOCATION:Aarde-werk de Stegge Geessinkweg 3 7107AR Winterswijk
SEQUENCE:0
STATUS:CONFIRMED
SUMMARY:Lekker naar de boer
TRANSP:OPAQUE
END:VEVENT
END:VCALENDAR
