BEGIN:VCALENDAR
PRODID:-//PUBBLE//an agenda//NL
VERSION:2.0
METHOD:PUBLISH
BEGIN:VEVENT
DTSTART:20180619T163000Z
DTEND:20180619T170000Z
DTSTAMP:20260423T230810Z
UID:ce97784c-0653-4276-9ef8-97db1ccf1cfd
CREATED:20260423T230810Z
URL:https://www.achterhoekfoto.nl/agenda/item/196717
NAME:Avondwandeling Halle AchterhoekFoto.nl
X-WR-CALNAME:Avondwandeling Halle AchterhoekFoto.nl
X-ALT-DESC;FMTTYPE=text/html:<a href='https://www.achterhoekfoto.nl/agenda/item//196717'>https://achterhoekfoto.nl/agenda/item//196717</a> || <p>Avondwandeling dinsdag 19 juni 2018 te Halle, afstanden 5 en 10 km.

Al vele jaren organiseert Halle’s Belang in de maand juni een AVONDWANDELING van 5 en 10 km. door en langs de mooie natuurgebieden van Halle. Deze afstanden zijn ook geschikt voor jonge kinderen (en hun ouders/verzorgers) om met de wandelsport kennis te maken.
De starttijd is tussen 18.30 en 19.00 uur vanaf het Dorpsplein te Halle (Dorpsstraat 21). Routebeschrijvingen zijn beschikbaar.
De kosten bedragen € 5,00 per persoon. Kinderen tot en met 12 jaar wandelen gratis mee. Onderweg wordt er tijdens de pauze een consumptie aangeboden en aan het einde van de tocht, bij het Dorpsplein, is er voor elke deelnemer (nogmaals) een gratis consumptie.
</p>
DESCRIPTION:<a href='https://www.achterhoekfoto.nl/agenda/item//196717'>https://www.achterhoekfoto.nl/agenda/item//196717</a> || Avondwandeling dinsdag 19 juni 2018 te Halle, afstanden 5 en 10 km.

Al vele jaren organiseert Halle’s Belang in de maand juni een AVONDWANDELING van 5 en 10 km. door en langs de mooie natuurgebieden van Halle. Deze afstanden zijn ook geschikt voor jonge kinderen (en hun ouders/verzorgers) om met de wandelsport kennis te maken.
De starttijd is tussen 18.30 en 19.00 uur vanaf het Dorpsplein te Halle (Dorpsstraat 21). Routebeschrijvingen zijn beschikbaar.
De kosten bedragen € 5,00 per persoon. Kinderen tot en met 12 jaar wandelen gratis mee. Onderweg wordt er tijdens de pauze een consumptie aangeboden en aan het einde van de tocht, bij het Dorpsplein, is er voor elke deelnemer (nogmaals) een gratis consumptie.

LAST-MODIFIED:20260423T230810Z
LOCATION:Eetcafé De Woage Dorpsstraat 21 7025AB Halle
SEQUENCE:0
STATUS:CONFIRMED
SUMMARY:Avondwandeling Halle
TRANSP:OPAQUE
END:VEVENT
END:VCALENDAR
