BEGIN:VCALENDAR
PRODID:-//PUBBLE//an agenda//NL
VERSION:2.0
METHOD:PUBLISH
BEGIN:VEVENT
DTSTART:20180819T120000Z
DTEND:20180819T160000Z
DTSTAMP:20260424T170950Z
UID:596b8d14-aa79-42d1-a8cc-6a9aa4df866a
CREATED:20260424T170950Z
URL:https://www.achterhoekfoto.nl/agenda/item/196604
NAME:Wielerkoers Dwars deur Grolle AchterhoekFoto.nl
X-WR-CALNAME:Wielerkoers Dwars deur Grolle AchterhoekFoto.nl
X-ALT-DESC;FMTTYPE=text/html:<a href='https://www.achterhoekfoto.nl/agenda/item//196604'>https://achterhoekfoto.nl/agenda/item//196604</a> || <p>Wielerkoers Dwars deur Grolle wordt gehouden op kermiszondag in hartje Groenlo. De start is om 14.00 uur.

Het wordt een prachtige wedstrijd voor amateurs en recreanten. Het mooie is dat Dwars deur Grolle voorafgegaan wordt door de Ronde van de Achterhoek. Deze koers van 180 km start in Aalten, komt door het centrum van Groenlo en daar sluit Dwars deur Grolle op aan. De Markt zal de prachtige plek worden voor de finish, met de huldiging van de winnaars op het bordes van het stadhuis.

Iedereen kan in principe meedoen, er is geen wedstrijdlicentie vereist. Er is een amateurrace, een recreantenrace en de sportklasse. Er is een hele bijzondere prijzenpot vol met Grolse en bourgondische prijzen, precies zoals dat bij Groenlo past.</p>
DESCRIPTION:<a href='https://www.achterhoekfoto.nl/agenda/item//196604'>https://www.achterhoekfoto.nl/agenda/item//196604</a> || Wielerkoers Dwars deur Grolle wordt gehouden op kermiszondag in hartje Groenlo. De start is om 14.00 uur.

Het wordt een prachtige wedstrijd voor amateurs en recreanten. Het mooie is dat Dwars deur Grolle voorafgegaan wordt door de Ronde van de Achterhoek. Deze koers van 180 km start in Aalten, komt door het centrum van Groenlo en daar sluit Dwars deur Grolle op aan. De Markt zal de prachtige plek worden voor de finish, met de huldiging van de winnaars op het bordes van het stadhuis.

Iedereen kan in principe meedoen, er is geen wedstrijdlicentie vereist. Er is een amateurrace, een recreantenrace en de sportklasse. Er is een hele bijzondere prijzenpot vol met Grolse en bourgondische prijzen, precies zoals dat bij Groenlo past.
LAST-MODIFIED:20260424T170950Z
LOCATION:Centrum Groenlo Vestingstad Groenlo - 7141HE Groenlo
SEQUENCE:0
STATUS:CONFIRMED
SUMMARY:Wielerkoers Dwars deur Grolle
TRANSP:OPAQUE
END:VEVENT
END:VCALENDAR
