BEGIN:VCALENDAR
PRODID:-//PUBBLE//an agenda//NL
VERSION:2.0
METHOD:PUBLISH
BEGIN:VEVENT
DTSTART:20180622T080000Z
DTEND:20180623T190000Z
DTSTAMP:20260424T220311Z
UID:6fc7572f-30a6-4921-8de7-92e14000602d
CREATED:20260424T220311Z
URL:https://www.achterhoekfoto.nl/agenda/item/193501
NAME:Farm & Country Fair AchterhoekFoto.nl
X-WR-CALNAME:Farm & Country Fair AchterhoekFoto.nl
X-ALT-DESC;FMTTYPE=text/html:<a href='https://www.achterhoekfoto.nl/agenda/item//193501'>https://achterhoekfoto.nl/agenda/item//193501</a> || <p>Hét belevenisfestival
Beleef de fijne sfeer bij de Farm & Country Fair. Volop verrassing en actie, maar ook rustige plekken om gewoon te niksen. Shoppen bij 400 zeer gevarieerde winkels met prachtige producten. Lekker eten, deelnemen aan workshops, genieten van exposities, akoestische muziek en een bos vol gekkigheden. Duizenden dieren, moderne landbouw, een doorlopend showprogramma: als je van het buitenleven houdt, dan is de countryfair in Aalten de plek waar je móet zijn.

De countryfair onderscheidt zich door de vele belevenisdorpen die elk diep op hun specifieke thema ingaan, het doorlopende programma in meerdere ringen én het grote, ruime terrein.

Voor uitgebreide informatie www.countryfair.nl </p>
DESCRIPTION:<a href='https://www.achterhoekfoto.nl/agenda/item//193501'>https://www.achterhoekfoto.nl/agenda/item//193501</a> || Hét belevenisfestival
Beleef de fijne sfeer bij de Farm & Country Fair. Volop verrassing en actie, maar ook rustige plekken om gewoon te niksen. Shoppen bij 400 zeer gevarieerde winkels met prachtige producten. Lekker eten, deelnemen aan workshops, genieten van exposities, akoestische muziek en een bos vol gekkigheden. Duizenden dieren, moderne landbouw, een doorlopend showprogramma: als je van het buitenleven houdt, dan is de countryfair in Aalten de plek waar je móet zijn.

De countryfair onderscheidt zich door de vele belevenisdorpen die elk diep op hun specifieke thema ingaan, het doorlopende programma in meerdere ringen én het grote, ruime terrein.

Voor uitgebreide informatie www.countryfair.nl 
LAST-MODIFIED:20260424T220311Z
LOCATION:Farm and Country Fair Dinxperlosestraatweg 124 7122JS Aalten
SEQUENCE:0
STATUS:CONFIRMED
SUMMARY:Farm & Country Fair
TRANSP:OPAQUE
END:VEVENT
END:VCALENDAR
