BEGIN:VCALENDAR
PRODID:-//PUBBLE//an agenda//NL
VERSION:2.0
METHOD:PUBLISH
BEGIN:VEVENT
DTSTART:20180621T120000Z
DTEND:20180621T133000Z
DTSTAMP:20260424T152019Z
UID:5fcdc1b9-1ebf-4f44-bd13-dab66f8fe283
CREATED:20260424T152019Z
URL:https://www.achterhoekfoto.nl/agenda/item/193401
NAME:Mantelzorgcafé in de gemeente Winterswijk AchterhoekFoto.nl
X-WR-CALNAME:Mantelzorgcafé in de gemeente Winterswijk AchterhoekFoto.nl
X-ALT-DESC;FMTTYPE=text/html:<a href='https://www.achterhoekfoto.nl/agenda/item//193401'>https://achterhoekfoto.nl/agenda/item//193401</a> || Iedereen die intensief of langdurig zorgt voor iemand, een ouder, een kind, partner of iemand anders uit de omgeving, is mantelzorger. Soms komen mantelzorgers voor uitdagingen te staan en kan het emotioneel zwaar worden. Praten daarover kan helpen om de zorg vol te houden. Andere mantelzorgers begrijpen u maar al te goed.

Mantelzorgcafé
U bent daarom van harte welkom in het Mantelzorgcafé, georganiseerd door VIT-hulp bij mantelzorg. Dé plek om andere mantelzorgers te ontmoeten in een ongedwongen sfeer. 
De mantelzorgconsulent is uw gastvrouw. Zij ontvangt iedereen met een kopje koffie of thee en kan uw vragen beantwoorden. Iedere maand kunt u terecht bij het Mantelzorgcafé. 

Informatie
U kunt alle gegevens over deze bijeenkomsten ook vinden op www.vithulpbijmantelzorg.nl.
Opgave hiervoor is niet nodig. Er zijn geen kosten aan verbonden en de koffie/thee krijgt u aangeboden. Meer weten? Bel (0544) 82 00 00 of mail info@vithulpbijmantelzorg.nl.

<br />www.vithulpbijmantelzorg.nl<br /><br /><br />
DESCRIPTION:<a href='https://www.achterhoekfoto.nl/agenda/item//193401'>https://www.achterhoekfoto.nl/agenda/item//193401</a> || Iedereen die intensief of langdurig zorgt voor iemand, een ouder, een kind, partner of iemand anders uit de omgeving, is mantelzorger. Soms komen mantelzorgers voor uitdagingen te staan en kan het emotioneel zwaar worden. Praten daarover kan helpen om de zorg vol te houden. Andere mantelzorgers begrijpen u maar al te goed.

Mantelzorgcafé
U bent daarom van harte welkom in het Mantelzorgcafé, georganiseerd door VIT-hulp bij mantelzorg. Dé plek om andere mantelzorgers te ontmoeten in een ongedwongen sfeer. 
De mantelzorgconsulent is uw gastvrouw. Zij ontvangt iedereen met een kopje koffie of thee en kan uw vragen beantwoorden. Iedere maand kunt u terecht bij het Mantelzorgcafé. 

Informatie
U kunt alle gegevens over deze bijeenkomsten ook vinden op www.vithulpbijmantelzorg.nl.
Opgave hiervoor is niet nodig. Er zijn geen kosten aan verbonden en de koffie/thee krijgt u aangeboden. Meer weten? Bel (0544) 82 00 00 of mail info@vithulpbijmantelzorg.nl.

www.vithulpbijmantelzorg.nl
LAST-MODIFIED:20260424T152019Z
LOCATION:Hertog Karel van Gelre Markt 25 7101da Winterswijk
SEQUENCE:0
STATUS:CONFIRMED
SUMMARY:Mantelzorgcafé in de gemeente Winterswijk
TRANSP:OPAQUE
END:VEVENT
END:VCALENDAR
