BEGIN:VCALENDAR
PRODID:-//PUBBLE//an agenda//NL
VERSION:2.0
METHOD:PUBLISH
BEGIN:VEVENT
DTSTART:20180617T080000Z
DTEND:20180617T150000Z
DTSTAMP:20260423T031703Z
UID:97c13bf0-5438-4674-b3cf-7220601174d4
CREATED:20260423T031703Z
URL:https://www.achterhoekfoto.nl/agenda/item/189083
NAME:Vaderdag in Het Land van Jan Klaassen AchterhoekFoto.nl
X-WR-CALNAME:Vaderdag in Het Land van Jan Klaassen AchterhoekFoto.nl
X-ALT-DESC;FMTTYPE=text/html:<a href='https://www.achterhoekfoto.nl/agenda/item//189083'>https://achterhoekfoto.nl/agenda/item//189083</a> || <p>Op Vaderdag zetten wij alle vaders in het zonnetje: zij zijn vandaag helemaal GRATIS! Katrijn heeft voor Jan Klaassen een mooie tekening gemaakt. Ome Toon heeft een kist gemaakt om de tekening in te doen. Maar als Katrijn de kist aan Jan Klaassen wil geven, is de kist weg. Help Jan Klaassen om de kist met tekening terug te vinden. Het Land van Jan Klaassen is op 17 juni 2018 open van 10.00 tot 17.00 uur.</p>
DESCRIPTION:<a href='https://www.achterhoekfoto.nl/agenda/item//189083'>https://www.achterhoekfoto.nl/agenda/item//189083</a> || Op Vaderdag zetten wij alle vaders in het zonnetje: zij zijn vandaag helemaal GRATIS! Katrijn heeft voor Jan Klaassen een mooie tekening gemaakt. Ome Toon heeft een kist gemaakt om de tekening in te doen. Maar als Katrijn de kist aan Jan Klaassen wil geven, is de kist weg. Help Jan Klaassen om de kist met tekening terug te vinden. Het Land van Jan Klaassen is op 17 juni 2018 open van 10.00 tot 17.00 uur.
LAST-MODIFIED:20260423T031703Z
LOCATION:Het Land van Jan Klaassen Gildeweg 6 7047 AR Braamt
SEQUENCE:0
STATUS:CONFIRMED
SUMMARY:Vaderdag in Het Land van Jan Klaassen
TRANSP:OPAQUE
END:VEVENT
END:VCALENDAR
