BEGIN:VCALENDAR
PRODID:-//PUBBLE//an agenda//NL
VERSION:2.0
METHOD:PUBLISH
BEGIN:VEVENT
DTSTART:20180624T080000Z
DTEND:20180624T150000Z
DTSTAMP:20260425T215930Z
UID:f0dbcb3b-821a-44f7-b6ef-3207d6f5bb61
CREATED:20260425T215930Z
URL:https://www.achterhoekfoto.nl/agenda/item/189040
NAME:Montmartre Markt Doesburg AchterhoekFoto.nl
X-WR-CALNAME:Montmartre Markt Doesburg AchterhoekFoto.nl
X-ALT-DESC;FMTTYPE=text/html:<a href='https://www.achterhoekfoto.nl/agenda/item//189040'>https://achterhoekfoto.nl/agenda/item//189040</a> || In het historische centrum van de Hanzestad Doesburg worden, na het grote succes van de laatste twee jaren, 5 Montmartre Markten georganiseerd op de laatste zondagen van de maanden april, mei, juni, juli, augustus op de Vischmarkt, de Roggestraat en een gedeelte Veerpoortstraat. Dit gebied in Doesburg wordt niet voor niets het Montmartre van Doesburg genoemd,De gevels van de oude panden en de sfeervolle terrassen zorgen voor de perfecte sfeer voor een Montmartre markt. Op deze markten leuke kramen met Frans gerelateerde producten zoals wijn, kaas en noten maar ook antiek, veel brocante, kunst, curiosa en boeken. Ook de portretschilder en de Franse musette en Django Reinhard muziek ontbreken niet. De Montmartre markten worden gehouden op zondag 29 april, zondag 27 mei, 24 juni, zondag 29 juli en zondag 26 augustus  van 10.00 – 17.00 uur Mocht u belangstelling hebben voor het huren van een kraam vul dan onderstaand formulier in of mail naar info@stein.nl.


DESCRIPTION:<a href='https://www.achterhoekfoto.nl/agenda/item//189040'>https://www.achterhoekfoto.nl/agenda/item//189040</a> || In het historische centrum van de Hanzestad Doesburg worden, na het grote succes van de laatste twee jaren, 5 Montmartre Markten georganiseerd op de laatste zondagen van de maanden april, mei, juni, juli, augustus op de Vischmarkt, de Roggestraat en een gedeelte Veerpoortstraat. Dit gebied in Doesburg wordt niet voor niets het Montmartre van Doesburg genoemd,De gevels van de oude panden en de sfeervolle terrassen zorgen voor de perfecte sfeer voor een Montmartre markt. Op deze markten leuke kramen met Frans gerelateerde producten zoals wijn, kaas en noten maar ook antiek, veel brocante, kunst, curiosa en boeken. Ook de portretschilder en de Franse musette en Django Reinhard muziek ontbreken niet. De Montmartre markten worden gehouden op zondag 29 april, zondag 27 mei, 24 juni, zondag 29 juli en zondag 26 augustus  van 10.00 – 17.00 uur Mocht u belangstelling hebben voor het huren van een kraam vul dan onderstaand formulier in of mail naar info@stein.nl.


LAST-MODIFIED:20260425T215930Z
LOCATION:Montmartre Markt Roggestraat 23 6981BJ Doesburg
SEQUENCE:0
STATUS:CONFIRMED
SUMMARY:Montmartre Markt Doesburg
TRANSP:OPAQUE
END:VEVENT
END:VCALENDAR
