BEGIN:VCALENDAR
PRODID:-//PUBBLE//an agenda//NL
VERSION:2.0
METHOD:PUBLISH
BEGIN:VEVENT
DTSTART:20180624T100000Z
DTEND:20180624T160000Z
DTSTAMP:20260426T021735Z
UID:e15d2263-0614-48b2-83a7-29bcd748c1c6
CREATED:20260426T021735Z
URL:https://www.achterhoekfoto.nl/agenda/item/188203
NAME:Straten Schiettoernooi AchterhoekFoto.nl
X-WR-CALNAME:Straten Schiettoernooi AchterhoekFoto.nl
X-ALT-DESC;FMTTYPE=text/html:<a href='https://www.achterhoekfoto.nl/agenda/item//188203'>https://achterhoekfoto.nl/agenda/item//188203</a> || Straten Schiettoernooi
DESCRIPTION:<a href='https://www.achterhoekfoto.nl/agenda/item//188203'>https://www.achterhoekfoto.nl/agenda/item//188203</a> || Straten Schiettoernooi
LAST-MODIFIED:20260426T021735Z
LOCATION:Schuttersgebouw Schuttersveld 1 7035DT Kilder
SEQUENCE:0
STATUS:CONFIRMED
SUMMARY:Straten Schiettoernooi
TRANSP:OPAQUE
END:VEVENT
END:VCALENDAR
