BEGIN:VCALENDAR
PRODID:-//PUBBLE//an agenda//NL
VERSION:2.0
METHOD:PUBLISH
BEGIN:VEVENT
DTSTART:20180623T150000Z
DTEND:20180623T215900Z
DTSTAMP:20260425T131759Z
UID:5a9c6d07-d516-402a-b40b-259b74475857
CREATED:20260425T131759Z
URL:https://www.achterhoekfoto.nl/agenda/item/188202
NAME:Schuttersfeest Kilder AchterhoekFoto.nl
X-WR-CALNAME:Schuttersfeest Kilder AchterhoekFoto.nl
X-ALT-DESC;FMTTYPE=text/html:<a href='https://www.achterhoekfoto.nl/agenda/item//188202'>https://achterhoekfoto.nl/agenda/item//188202</a> || Schuttersfeest Kilder
DESCRIPTION:<a href='https://www.achterhoekfoto.nl/agenda/item//188202'>https://www.achterhoekfoto.nl/agenda/item//188202</a> || Schuttersfeest Kilder
LAST-MODIFIED:20260425T131759Z
LOCATION:Schuttersgebouw Schuttersveld 1 7035DT Kilder
SEQUENCE:0
STATUS:CONFIRMED
SUMMARY:Schuttersfeest Kilder
TRANSP:OPAQUE
END:VEVENT
END:VCALENDAR
