BEGIN:VCALENDAR
PRODID:-//PUBBLE//an agenda//NL
VERSION:2.0
METHOD:PUBLISH
BEGIN:VEVENT
DTSTART:20180817T220000Z
DTEND:20180818T215900Z
DTSTAMP:20260423T200106Z
UID:bc366aa0-4ea5-49e2-afd1-05c2214049a3
CREATED:20260423T200106Z
URL:https://www.achterhoekfoto.nl/agenda/item/180806
NAME:Grolse Kermis AchterhoekFoto.nl
X-WR-CALNAME:Grolse Kermis AchterhoekFoto.nl
X-ALT-DESC;FMTTYPE=text/html:<a href='https://www.achterhoekfoto.nl/agenda/item//180806'>https://achterhoekfoto.nl/agenda/item//180806</a> || <p>-</p>
DESCRIPTION:<a href='https://www.achterhoekfoto.nl/agenda/item//180806'>https://www.achterhoekfoto.nl/agenda/item//180806</a> || -
LAST-MODIFIED:20260423T200106Z
LOCATION:Centrum Groenlo Vestingstad Groenlo - 7141HE Groenlo
SEQUENCE:0
STATUS:CONFIRMED
SUMMARY:Grolse Kermis
TRANSP:OPAQUE
END:VEVENT
END:VCALENDAR
