BEGIN:VCALENDAR
PRODID:-//PUBBLE//an agenda//NL
VERSION:2.0
METHOD:PUBLISH
BEGIN:VEVENT
DTSTART:20180614T090000Z
DTEND:20180616T220000Z
DTSTAMP:20260421T130826Z
UID:c39e08b4-09d5-4a44-8944-4daea7f66fca
CREATED:20260421T130826Z
URL:https://www.achterhoekfoto.nl/agenda/item/177659
NAME:Mañana Mañana 2018 AchterhoekFoto.nl
X-WR-CALNAME:Mañana Mañana 2018 AchterhoekFoto.nl
X-ALT-DESC;FMTTYPE=text/html:<a href='https://www.achterhoekfoto.nl/agenda/item//177659'>https://achterhoekfoto.nl/agenda/item//177659</a> || <p>Mañana Mañana is een festival voor alle leeftijden en iedere leeftijdsgroep houdt er zo zijn eigen festivalritme op na. Daarom is er op Mañana Mañana 2018 een familiecamping. Handig als je in alle rust wil uitslapen of juist wat eerder de rust op wil zoeken – de ligging van de familiecamping zal bijvoorbeeld rekening houden met het volume vanaf het festival. Ook zullen er op de familiecamping faciliteiten voor de kleintjes ingericht worden.</p>
DESCRIPTION:<a href='https://www.achterhoekfoto.nl/agenda/item//177659'>https://www.achterhoekfoto.nl/agenda/item//177659</a> || Mañana Mañana is een festival voor alle leeftijden en iedere leeftijdsgroep houdt er zo zijn eigen festivalritme op na. Daarom is er op Mañana Mañana 2018 een familiecamping. Handig als je in alle rust wil uitslapen of juist wat eerder de rust op wil zoeken – de ligging van de familiecamping zal bijvoorbeeld rekening houden met het volume vanaf het festival. Ook zullen er op de familiecamping faciliteiten voor de kleintjes ingericht worden.
LAST-MODIFIED:20260421T130826Z
LOCATION:kasteel Vorden de Horsterkamp 8 7251az Vorden
SEQUENCE:0
STATUS:CONFIRMED
SUMMARY:Mañana Mañana 2018
TRANSP:OPAQUE
END:VEVENT
END:VCALENDAR
