BEGIN:VCALENDAR
PRODID:-//PUBBLE//an agenda//NL
VERSION:2.0
METHOD:PUBLISH
BEGIN:VEVENT
DTSTART:20180617T093000Z
DTEND:20180617T111500Z
DTSTAMP:20260423T070700Z
UID:457d9b69-c242-4ef3-a07c-8999f097efbb
CREATED:20260423T070700Z
URL:https://www.achterhoekfoto.nl/agenda/item/172596
NAME:Concert Archduke Ensemble AchterhoekFoto.nl
X-WR-CALNAME:Concert Archduke Ensemble AchterhoekFoto.nl
X-ALT-DESC;FMTTYPE=text/html:<a href='https://www.achterhoekfoto.nl/agenda/item//172596'>https://achterhoekfoto.nl/agenda/item//172596</a> || <p>Het Archduke Ensemble, bestaande uit pianiste Shuann Chai, violist Shunske Sato (sinds vorig jaar als opvolger van Jos van veldhoven artistiek leider van de Nederlandsche Bachvereniging) en hoornist Teunis van der Zwart, speelt Romantisch repertoire waarin de hoorn een hoofdrol heeft. Hoewel de hoorn een zeer oud instrument is, wordt de veelzijdigheid van het instrument – dat nog niet zo vaak in de Kapel was te horen – vooral pas in de Romantiek volledig benut door componisten als Brahms, Bruckner en Bruch. Een heel bijzondere afsluiting van het seizoen.
Entree € 17,50
Kaarten ook via www.hanzehof.nl</p>
DESCRIPTION:<a href='https://www.achterhoekfoto.nl/agenda/item//172596'>https://www.achterhoekfoto.nl/agenda/item//172596</a> || Het Archduke Ensemble, bestaande uit pianiste Shuann Chai, violist Shunske Sato (sinds vorig jaar als opvolger van Jos van veldhoven artistiek leider van de Nederlandsche Bachvereniging) en hoornist Teunis van der Zwart, speelt Romantisch repertoire waarin de hoorn een hoofdrol heeft. Hoewel de hoorn een zeer oud instrument is, wordt de veelzijdigheid van het instrument – dat nog niet zo vaak in de Kapel was te horen – vooral pas in de Romantiek volledig benut door componisten als Brahms, Bruckner en Bruch. Een heel bijzondere afsluiting van het seizoen.
Entree € 17,50
Kaarten ook via www.hanzehof.nl
LAST-MODIFIED:20260423T070700Z
LOCATION:Kapel op 't Rijsselt Mettrayweg 25 7211 LC Eefde
SEQUENCE:0
STATUS:CONFIRMED
SUMMARY:Concert Archduke Ensemble
TRANSP:OPAQUE
END:VEVENT
END:VCALENDAR
