BEGIN:VCALENDAR
PRODID:-//PUBBLE//an agenda//NL
VERSION:2.0
METHOD:PUBLISH
BEGIN:VEVENT
DTSTART:20160707T073000Z
DTEND:20160707T073000Z
DTSTAMP:20260425T183224Z
UID:a84eb0e9-4980-40b0-8d92-cee7d35db9d8
CREATED:20260425T183224Z
URL:https://www.achterhoekfoto.nl/agenda/item/151087
NAME:Fietsdonderdagen bij de VVV Aalten AchterhoekFoto.nl
X-WR-CALNAME:Fietsdonderdagen bij de VVV Aalten AchterhoekFoto.nl
X-ALT-DESC;FMTTYPE=text/html:<a href='https://www.achterhoekfoto.nl/agenda/item//151087'>https://achterhoekfoto.nl/agenda/item//151087</a> || <p>In de maanden juni, juli, augustus en september organiseert de VVV Aalten op elke 1e donderdag van de maand een gezellige fietsd</p><p>Do 2 juni 2016 09:30 - 11:00 uur, do 7 juli 2016 09:30 - 11:00 uur, do 4 augustus 2016 09:30 - 11:00 uur, do 1 september 2016 09:30 - 11:00 uur, Toelichting: De route is €4,00 p.p. incl. koffie/thee met wat erbij, en wat lekkers voor onderweg.

De beschreven  routes zijn ca. 40 km lang en voeren u over paden door het prachtige  coulisselandschap van de Achterhoek.
De start is bij de VVV Aalten, tussen 9.30-11.00 uur u begint met een heerlijke kop koffie of thee met wat erbij, u ontvangt de route en wat lekkers erbij voor onderweg en dat alles voor €4,00 p.p.
tel. 0543-473052
email: info@vvvaalten.nl</p><p><a href='Do 2 juni 2016 09:30 - 11:00 uur, do 7 juli 2016 09:30 - 11:00 uur, do 4 augustus 2016 09:30 - 11:00 uur, do 1 september 2016 09:30 - 11:00 uur, Toelichting: De route is €4,00 p.p. incl. koffie/thee met wat erbij, en wat lekkers voor onderweg.

De beschreven  routes zijn ca. 40 km lang en voeren u over paden door het prachtige  coulisselandschap van de Achterhoek.
De start is bij de VVV Aalten, tussen 9.30-11.00 uur u begint met een heerlijke kop koffie of thee met wat erbij, u ontvangt de route en wat lekkers erbij voor onderweg en dat alles voor €4,00 p.p.
tel. 0543-473052
email: info@vvvaalten.nl' target='blank'>Do 2 juni 2016 09:30 - 11:00 uur, do 7 juli 2016 09:30 - 11:00 uur, do 4 augustus 2016 09:30 - 11:00 uur, do 1 september 2016 09:30 - 11:00 uur, Toelichting: De route is €4,00 p.p. incl. koffie/thee met wat erbij, en wat lekkers voor onderweg.

De beschreven  routes zijn ca. 40 km lang en voeren u over paden door het prachtige  coulisselandschap van de Achterhoek.
De start is bij de VVV Aalten, tussen 9.30-11.00 uur u begint met een heerlijke kop koffie of thee met wat erbij, u ontvangt de route en wat lekkers erbij voor onderweg en dat alles voor €4,00 p.p.
tel. 0543-473052
email: info@vvvaalten.nl</a></p>
DESCRIPTION:<a href='https://www.achterhoekfoto.nl/agenda/item//151087'>https://www.achterhoekfoto.nl/agenda/item//151087</a> || In de maanden juni, juli, augustus en september organiseert de VVV Aalten op elke 1e donderdag van de maand een gezellige fietsdDo 2 juni 2016 09:30 - 11:00 uur, do 7 juli 2016 09:30 - 11:00 uur, do 4 augustus 2016 09:30 - 11:00 uur, do 1 september 2016 09:30 - 11:00 uur, Toelichting: De route is €4,00 p.p. incl. koffie/thee met wat erbij, en wat lekkers voor onderweg.

De beschreven  routes zijn ca. 40 km lang en voeren u over paden door het prachtige  coulisselandschap van de Achterhoek.
De start is bij de VVV Aalten, tussen 9.30-11.00 uur u begint met een heerlijke kop koffie of thee met wat erbij, u ontvangt de route en wat lekkers erbij voor onderweg en dat alles voor €4,00 p.p.
tel. 0543-473052
email: info@vvvaalten.nlDo 2 juni 2016 09:30 - 11:00 uur, do 7 juli 2016 09:30 - 11:00 uur, do 4 augustus 2016 09:30 - 11:00 uur, do 1 september 2016 09:30 - 11:00 uur, Toelichting: De route is €4,00 p.p. incl. koffie/thee met wat erbij, en wat lekkers voor onderweg.

De beschreven  routes zijn ca. 40 km lang en voeren u over paden door het prachtige  coulisselandschap van de Achterhoek.
De start is bij de VVV Aalten, tussen 9.30-11.00 uur u begint met een heerlijke kop koffie of thee met wat erbij, u ontvangt de route en wat lekkers erbij voor onderweg en dat alles voor €4,00 p.p.
tel. 0543-473052
email: info@vvvaalten.nl
LAST-MODIFIED:20260425T183224Z
LOCATION:VVV Aalten Markt 14  Aalten
SEQUENCE:0
STATUS:CONFIRMED
SUMMARY:Fietsdonderdagen bij de VVV Aalten
TRANSP:OPAQUE
END:VEVENT
END:VCALENDAR
