BEGIN:VCALENDAR
PRODID:-//PUBBLE//an agenda//NL
VERSION:2.0
METHOD:PUBLISH
BEGIN:VEVENT
DTSTART:20160707T133000Z
DTEND:20160707T133000Z
DTSTAMP:20260426T041243Z
UID:e298cf5a-f091-4bff-a6b4-2aa844c080d2
CREATED:20260426T041243Z
URL:https://www.achterhoekfoto.nl/agenda/item/151079
NAME:Dorpskerk Vorden Toeristenconcert AchterhoekFoto.nl
X-WR-CALNAME:Dorpskerk Vorden Toeristenconcert AchterhoekFoto.nl
X-ALT-DESC;FMTTYPE=text/html:<a href='https://www.achterhoekfoto.nl/agenda/item//151079'>https://achterhoekfoto.nl/agenda/item//151079</a> || <p>Toeristenconcert met organist en beiaardier Wilbert Berendsen</p><p>Er is weleens discussie of beiaardiers ook wel orgel kunnen spelen. In deze serie Toeristenconcerten maar liefst een drietal gerenommeerde beiaardiers! Kom en overtuig u dat dit perfect kan.
De eerste in deze serie van drie is Wilbert Berendsen. Wilbert heeft een uitstekend touchee voor zowel de beiaard, piano, orgel en het klavecimbel. Hij bespeelt in dit concert het Lohmanorgel met een speciaal "Beiaardiers-programma" met dito composities.  Vierne, Byrd, Durufle, Lebeque, Langlais, Mulet en Berendsen.

‘Dorpskerk Vorden, middenin het Dorp’
Donderdag 7 juli 2016 aanvang 15.30 uur.
Toegang vrij, met een vrijwillige bijdrage aan de uitgang voor de kosten.
www.vriendenvandedorpskerkvorden.nl</p><p><a href='Er is weleens discussie of beiaardiers ook wel orgel kunnen spelen. In deze serie Toeristenconcerten maar liefst een drietal gerenommeerde beiaardiers! Kom en overtuig u dat dit perfect kan.
De eerste in deze serie van drie is Wilbert Berendsen. Wilbert heeft een uitstekend touchee voor zowel de beiaard, piano, orgel en het klavecimbel. Hij bespeelt in dit concert het Lohmanorgel met een speciaal "Beiaardiers-programma" met dito composities.  Vierne, Byrd, Durufle, Lebeque, Langlais, Mulet en Berendsen.

‘Dorpskerk Vorden, middenin het Dorp’
Donderdag 7 juli 2016 aanvang 15.30 uur.
Toegang vrij, met een vrijwillige bijdrage aan de uitgang voor de kosten.
www.vriendenvandedorpskerkvorden.nl' target='blank'>Er is weleens discussie of beiaardiers ook wel orgel kunnen spelen. In deze serie Toeristenconcerten maar liefst een drietal gerenommeerde beiaardiers! Kom en overtuig u dat dit perfect kan.
De eerste in deze serie van drie is Wilbert Berendsen. Wilbert heeft een uitstekend touchee voor zowel de beiaard, piano, orgel en het klavecimbel. Hij bespeelt in dit concert het Lohmanorgel met een speciaal "Beiaardiers-programma" met dito composities.  Vierne, Byrd, Durufle, Lebeque, Langlais, Mulet en Berendsen.

‘Dorpskerk Vorden, middenin het Dorp’
Donderdag 7 juli 2016 aanvang 15.30 uur.
Toegang vrij, met een vrijwillige bijdrage aan de uitgang voor de kosten.
www.vriendenvandedorpskerkvorden.nl</a></p>
DESCRIPTION:<a href='https://www.achterhoekfoto.nl/agenda/item//151079'>https://www.achterhoekfoto.nl/agenda/item//151079</a> || Toeristenconcert met organist en beiaardier Wilbert BerendsenEr is weleens discussie of beiaardiers ook wel orgel kunnen spelen. In deze serie Toeristenconcerten maar liefst een drietal gerenommeerde beiaardiers! Kom en overtuig u dat dit perfect kan.
De eerste in deze serie van drie is Wilbert Berendsen. Wilbert heeft een uitstekend touchee voor zowel de beiaard, piano, orgel en het klavecimbel. Hij bespeelt in dit concert het Lohmanorgel met een speciaal "Beiaardiers-programma" met dito composities.  Vierne, Byrd, Durufle, Lebeque, Langlais, Mulet en Berendsen.

‘Dorpskerk Vorden, middenin het Dorp’
Donderdag 7 juli 2016 aanvang 15.30 uur.
Toegang vrij, met een vrijwillige bijdrage aan de uitgang voor de kosten.
www.vriendenvandedorpskerkvorden.nlEr is weleens discussie of beiaardiers ook wel orgel kunnen spelen. In deze serie Toeristenconcerten maar liefst een drietal gerenommeerde beiaardiers! Kom en overtuig u dat dit perfect kan.
De eerste in deze serie van drie is Wilbert Berendsen. Wilbert heeft een uitstekend touchee voor zowel de beiaard, piano, orgel en het klavecimbel. Hij bespeelt in dit concert het Lohmanorgel met een speciaal "Beiaardiers-programma" met dito composities.  Vierne, Byrd, Durufle, Lebeque, Langlais, Mulet en Berendsen.

‘Dorpskerk Vorden, middenin het Dorp’
Donderdag 7 juli 2016 aanvang 15.30 uur.
Toegang vrij, met een vrijwillige bijdrage aan de uitgang voor de kosten.
www.vriendenvandedorpskerkvorden.nl
LAST-MODIFIED:20260426T041243Z
LOCATION:Muziek Dorpskerk Vorden Dorpskerk, Kerkstraat, 7251BC 4  Vorden
SEQUENCE:0
STATUS:CONFIRMED
SUMMARY:Dorpskerk Vorden Toeristenconcert
TRANSP:OPAQUE
END:VEVENT
END:VCALENDAR
