BEGIN:VCALENDAR
PRODID:-//PUBBLE//an agenda//NL
VERSION:2.0
METHOD:PUBLISH
BEGIN:VEVENT
DTSTART:20160707T113000Z
DTEND:20160707T113000Z
DTSTAMP:20260426T014051Z
UID:3b329328-2adc-4333-89db-32ff78d624fe
CREATED:20260426T014051Z
URL:https://www.achterhoekfoto.nl/agenda/item/151074
NAME:"Introductie" Workshop Vormen en gieten, DRU Industriepark Ulft AchterhoekFoto.nl
X-WR-CALNAME:"Introductie" Workshop Vormen en gieten, DRU Industriepark Ulft AchterhoekFoto.nl
X-ALT-DESC;FMTTYPE=text/html:<a href='https://www.achterhoekfoto.nl/agenda/item//151074'>https://achterhoekfoto.nl/agenda/item//151074</a> || <p>Ïntroductie" Workshop Vormen en Gieten</p><p>De DRU komt weer tot leven, de vuren worden weer ontstoken en het ijzer roodgloeiend ! 
De fameuze terracottakleurige DRU gietijzeren braadpan werd gegoten in een zandvorm, ook heden ten dage maken mensen nog producten of kopieen van producten middels een zandvorm. 

Samen met een kundige begeleiding van vrijwilligers van het nederlands #Ijzermuseum ga je aan de slag om zelf een zandvorm te maken , "een bedje voor het withete vloeibare gietijzer". Nadat je de zandvorm gereed heb ga je aan de slag met het gieten, het gietijzer hebben we nu vervangen door Tin en je leert de kneepjes van het nobele gietvak 

Voor deze "Introductie" Workshop van circa een half uur rekenen we € 5,- toeslag op de entreeprijs ( maximaal 4 personen , grote groepen op aanvraag )

Voor verdere info zie www.icer.nl aanmelden via aanvraag@icer.eu</p><p><a href='De DRU komt weer tot leven, de vuren worden weer ontstoken en het ijzer roodgloeiend ! 
De fameuze terracottakleurige DRU gietijzeren braadpan werd gegoten in een zandvorm, ook heden ten dage maken mensen nog producten of kopieen van producten middels een zandvorm. 

Samen met een kundige begeleiding van vrijwilligers van het nederlands #Ijzermuseum ga je aan de slag om zelf een zandvorm te maken , "een bedje voor het withete vloeibare gietijzer". Nadat je de zandvorm gereed heb ga je aan de slag met het gieten, het gietijzer hebben we nu vervangen door Tin en je leert de kneepjes van het nobele gietvak 

Voor deze "Introductie" Workshop van circa een half uur rekenen we € 5,- toeslag op de entreeprijs ( maximaal 4 personen , grote groepen op aanvraag )

Voor verdere info zie www.icer.nl aanmelden via aanvraag@icer.eu' target='blank'>De DRU komt weer tot leven, de vuren worden weer ontstoken en het ijzer roodgloeiend ! 
De fameuze terracottakleurige DRU gietijzeren braadpan werd gegoten in een zandvorm, ook heden ten dage maken mensen nog producten of kopieen van producten middels een zandvorm. 

Samen met een kundige begeleiding van vrijwilligers van het nederlands #Ijzermuseum ga je aan de slag om zelf een zandvorm te maken , "een bedje voor het withete vloeibare gietijzer". Nadat je de zandvorm gereed heb ga je aan de slag met het gieten, het gietijzer hebben we nu vervangen door Tin en je leert de kneepjes van het nobele gietvak 

Voor deze "Introductie" Workshop van circa een half uur rekenen we € 5,- toeslag op de entreeprijs ( maximaal 4 personen , grote groepen op aanvraag )

Voor verdere info zie www.icer.nl aanmelden via aanvraag@icer.eu</a></p>
DESCRIPTION:<a href='https://www.achterhoekfoto.nl/agenda/item//151074'>https://www.achterhoekfoto.nl/agenda/item//151074</a> || Ïntroductie" Workshop Vormen en GietenDe DRU komt weer tot leven, de vuren worden weer ontstoken en het ijzer roodgloeiend ! 
De fameuze terracottakleurige DRU gietijzeren braadpan werd gegoten in een zandvorm, ook heden ten dage maken mensen nog producten of kopieen van producten middels een zandvorm. 

Samen met een kundige begeleiding van vrijwilligers van het nederlands #Ijzermuseum ga je aan de slag om zelf een zandvorm te maken , "een bedje voor het withete vloeibare gietijzer". Nadat je de zandvorm gereed heb ga je aan de slag met het gieten, het gietijzer hebben we nu vervangen door Tin en je leert de kneepjes van het nobele gietvak 

Voor deze "Introductie" Workshop van circa een half uur rekenen we € 5,- toeslag op de entreeprijs ( maximaal 4 personen , grote groepen op aanvraag )

Voor verdere info zie www.icer.nl aanmelden via aanvraag@icer.euDe DRU komt weer tot leven, de vuren worden weer ontstoken en het ijzer roodgloeiend ! 
De fameuze terracottakleurige DRU gietijzeren braadpan werd gegoten in een zandvorm, ook heden ten dage maken mensen nog producten of kopieen van producten middels een zandvorm. 

Samen met een kundige begeleiding van vrijwilligers van het nederlands #Ijzermuseum ga je aan de slag om zelf een zandvorm te maken , "een bedje voor het withete vloeibare gietijzer". Nadat je de zandvorm gereed heb ga je aan de slag met het gieten, het gietijzer hebben we nu vervangen door Tin en je leert de kneepjes van het nobele gietvak 

Voor deze "Introductie" Workshop van circa een half uur rekenen we € 5,- toeslag op de entreeprijs ( maximaal 4 personen , grote groepen op aanvraag )

Voor verdere info zie www.icer.nl aanmelden via aanvraag@icer.eu
LAST-MODIFIED:20260426T014051Z
LOCATION:ICER Innovatiecentrum Ulft Hutteweg 32 7071 BV Ulft
SEQUENCE:0
STATUS:CONFIRMED
SUMMARY:"Introductie" Workshop Vormen en gieten, DRU Industriepark Ulft
TRANSP:OPAQUE
END:VEVENT
END:VCALENDAR
