BEGIN:VCALENDAR
PRODID:-//PUBBLE//an agenda//NL
VERSION:2.0
METHOD:PUBLISH
BEGIN:VEVENT
DTSTART:20160707T090000Z
DTEND:20160707T090000Z
DTSTAMP:20260425T230009Z
UID:dbc5c4a6-3564-4b35-8160-cd8b0c01807a
CREATED:20260425T230009Z
URL:https://www.achterhoekfoto.nl/agenda/item/151071
NAME:Bezoek Touwslagerij Steenbergen AchterhoekFoto.nl
X-WR-CALNAME:Bezoek Touwslagerij Steenbergen AchterhoekFoto.nl
X-ALT-DESC;FMTTYPE=text/html:<a href='https://www.achterhoekfoto.nl/agenda/item//151071'>https://achterhoekfoto.nl/agenda/item//151071</a> || <p>Interessante en leerzame rondleiding waar de oude ambacht met moderne inzichten wordt gecombineerd.</p><p>Het touw dat hier wordt gemaakt wordt verder verwerkt tot bijvoorbeeld klimtouwen, netten maar ook designartikelen die de hele wereld over gaan en te zien zijn op designbeurzen in Milaan en Parijs.
Toegang: € 3,50 p.p (kinderen 9 t/m11 jaar € 2,50).
Reserveren verplicht bij VVV Lochem, tel 0573-251898</p><p><a href='Het touw dat hier wordt gemaakt wordt verder verwerkt tot bijvoorbeeld klimtouwen, netten maar ook designartikelen die de hele wereld over gaan en te zien zijn op designbeurzen in Milaan en Parijs.
Toegang: € 3,50 p.p (kinderen 9 t/m11 jaar € 2,50).
Reserveren verplicht bij VVV Lochem, tel 0573-251898' target='blank'>Het touw dat hier wordt gemaakt wordt verder verwerkt tot bijvoorbeeld klimtouwen, netten maar ook designartikelen die de hele wereld over gaan en te zien zijn op designbeurzen in Milaan en Parijs.
Toegang: € 3,50 p.p (kinderen 9 t/m11 jaar € 2,50).
Reserveren verplicht bij VVV Lochem, tel 0573-251898</a></p>
DESCRIPTION:<a href='https://www.achterhoekfoto.nl/agenda/item//151071'>https://www.achterhoekfoto.nl/agenda/item//151071</a> || Interessante en leerzame rondleiding waar de oude ambacht met moderne inzichten wordt gecombineerd.Het touw dat hier wordt gemaakt wordt verder verwerkt tot bijvoorbeeld klimtouwen, netten maar ook designartikelen die de hele wereld over gaan en te zien zijn op designbeurzen in Milaan en Parijs.
Toegang: € 3,50 p.p (kinderen 9 t/m11 jaar € 2,50).
Reserveren verplicht bij VVV Lochem, tel 0573-251898Het touw dat hier wordt gemaakt wordt verder verwerkt tot bijvoorbeeld klimtouwen, netten maar ook designartikelen die de hele wereld over gaan en te zien zijn op designbeurzen in Milaan en Parijs.
Toegang: € 3,50 p.p (kinderen 9 t/m11 jaar € 2,50).
Reserveren verplicht bij VVV Lochem, tel 0573-251898
LAST-MODIFIED:20260425T230009Z
LOCATION:Touwslagerij Steenbergen Veldhofstraat 10a 7213AL Gorssel
SEQUENCE:0
STATUS:CONFIRMED
SUMMARY:Bezoek Touwslagerij Steenbergen
TRANSP:OPAQUE
END:VEVENT
END:VCALENDAR
