BEGIN:VCALENDAR
PRODID:-//PUBBLE//an agenda//NL
VERSION:2.0
METHOD:PUBLISH
BEGIN:VEVENT
DTSTART:20160707T080000Z
DTEND:20160707T080000Z
DTSTAMP:20260425T195411Z
UID:37f0a425-9db1-41fb-bd84-7263b6ab9b5c
CREATED:20260425T195411Z
URL:https://www.achterhoekfoto.nl/agenda/item/151067
NAME:fietstocht  40km AchterhoekFoto.nl
X-WR-CALNAME:fietstocht  40km AchterhoekFoto.nl
X-ALT-DESC;FMTTYPE=text/html:<a href='https://www.achterhoekfoto.nl/agenda/item//151067'>https://achterhoekfoto.nl/agenda/item//151067</a> || <p>fietstocht KBO</p><p>fiets tocht voor ouderen</p>
DESCRIPTION:<a href='https://www.achterhoekfoto.nl/agenda/item//151067'>https://www.achterhoekfoto.nl/agenda/item//151067</a> || fietstocht KBOfiets tocht voor ouderen
LAST-MODIFIED:20260425T195411Z
LOCATION:KBO - Katholieke Belangen Organisatie voor Senioren, Keijenborg booltinkplein 2  Keijenborg
SEQUENCE:0
STATUS:CONFIRMED
SUMMARY:fietstocht  40km
TRANSP:OPAQUE
END:VEVENT
END:VCALENDAR
