BEGIN:VCALENDAR
PRODID:-//PUBBLE//an agenda//NL
VERSION:2.0
METHOD:PUBLISH
BEGIN:VEVENT
DTSTART:20160706T170000Z
DTEND:20160706T170000Z
DTSTAMP:20260425T165918Z
UID:516949ed-8d83-4075-a2e4-c142fa432fd6
CREATED:20260425T165918Z
URL:https://www.achterhoekfoto.nl/agenda/item/150385
NAME:Zomeravondconcert Eefde AchterhoekFoto.nl
X-WR-CALNAME:Zomeravondconcert Eefde AchterhoekFoto.nl
X-ALT-DESC;FMTTYPE=text/html:<a href='https://www.achterhoekfoto.nl/agenda/item//150385'>https://achterhoekfoto.nl/agenda/item//150385</a> || <p>Zomeravondconcert Eefde</p><p></p>
DESCRIPTION:<a href='https://www.achterhoekfoto.nl/agenda/item//150385'>https://www.achterhoekfoto.nl/agenda/item//150385</a> || Zomeravondconcert Eefde
LAST-MODIFIED:20260425T165918Z
LOCATION:Kerk Warnsveld Kerkplein 1 7231AE Warnsveld
SEQUENCE:0
STATUS:CONFIRMED
SUMMARY:Zomeravondconcert Eefde
TRANSP:OPAQUE
END:VEVENT
END:VCALENDAR
