BEGIN:VCALENDAR
PRODID:-//PUBBLE//an agenda//NL
VERSION:2.0
METHOD:PUBLISH
BEGIN:VEVENT
DTSTART:20160706T113000Z
DTEND:20160706T113000Z
DTSTAMP:20260425T112247Z
UID:95dede47-ca3f-44b0-9313-1c5f84b775fe
CREATED:20260425T112247Z
URL:https://www.achterhoekfoto.nl/agenda/item/150374
NAME:"Introductie" Workshop Ijzersmeden DRU Industriepark te Ulft AchterhoekFoto.nl
X-WR-CALNAME:"Introductie" Workshop Ijzersmeden DRU Industriepark te Ulft AchterhoekFoto.nl
X-ALT-DESC;FMTTYPE=text/html:<a href='https://www.achterhoekfoto.nl/agenda/item//150374'>https://achterhoekfoto.nl/agenda/item//150374</a> || <p>Ïntroductie" Workshop Ijzersmeden</p><p>De DRU komt weer tot leven, de vuren worden weer ontstoken en het ijzer roodgloeiend ! De smid zet het ijzer naar zijn hand middels vuur, aambeeld en hamer.
In Juli en Augustus word wekelijks een "Introductie" workshop #smeden gegeven bij het ICER Innovatiecentrum op het DRU industriepark in Ulft.
Wil jij ook graag eens het gevoel van de smid proeven, kom eens achter onze smidsvuren en aambeeld staan en leer de basisbegrippen van het smeden. Ervaar het oergevoel om het staal in jouw gewenste vorm te krijgen, maak een flesopener en open je vakantiebiertje met je EIGEN ICER opener !!

Een half uur smeden voor € 5,- , exclusief entreeprijs, informeer bij de receptie (maximaal 8 personen,  grote groepen op aanvraag ! ) 

Voor verdere info zie www.icer.nl aanmelden via aanvraag@icer.eu</p><p><a href='De DRU komt weer tot leven, de vuren worden weer ontstoken en het ijzer roodgloeiend ! De smid zet het ijzer naar zijn hand middels vuur, aambeeld en hamer.
In Juli en Augustus word wekelijks een "Introductie" workshop #smeden gegeven bij het ICER Innovatiecentrum op het DRU industriepark in Ulft.
Wil jij ook graag eens het gevoel van de smid proeven, kom eens achter onze smidsvuren en aambeeld staan en leer de basisbegrippen van het smeden. Ervaar het oergevoel om het staal in jouw gewenste vorm te krijgen, maak een flesopener en open je vakantiebiertje met je EIGEN ICER opener !!

Een half uur smeden voor € 5,- , exclusief entreeprijs, informeer bij de receptie (maximaal 8 personen,  grote groepen op aanvraag ! ) 

Voor verdere info zie www.icer.nl aanmelden via aanvraag@icer.eu' target='blank'>De DRU komt weer tot leven, de vuren worden weer ontstoken en het ijzer roodgloeiend ! De smid zet het ijzer naar zijn hand middels vuur, aambeeld en hamer.
In Juli en Augustus word wekelijks een "Introductie" workshop #smeden gegeven bij het ICER Innovatiecentrum op het DRU industriepark in Ulft.
Wil jij ook graag eens het gevoel van de smid proeven, kom eens achter onze smidsvuren en aambeeld staan en leer de basisbegrippen van het smeden. Ervaar het oergevoel om het staal in jouw gewenste vorm te krijgen, maak een flesopener en open je vakantiebiertje met je EIGEN ICER opener !!

Een half uur smeden voor € 5,- , exclusief entreeprijs, informeer bij de receptie (maximaal 8 personen,  grote groepen op aanvraag ! ) 

Voor verdere info zie www.icer.nl aanmelden via aanvraag@icer.eu</a></p>
DESCRIPTION:<a href='https://www.achterhoekfoto.nl/agenda/item//150374'>https://www.achterhoekfoto.nl/agenda/item//150374</a> || Ïntroductie" Workshop IjzersmedenDe DRU komt weer tot leven, de vuren worden weer ontstoken en het ijzer roodgloeiend ! De smid zet het ijzer naar zijn hand middels vuur, aambeeld en hamer.
In Juli en Augustus word wekelijks een "Introductie" workshop #smeden gegeven bij het ICER Innovatiecentrum op het DRU industriepark in Ulft.
Wil jij ook graag eens het gevoel van de smid proeven, kom eens achter onze smidsvuren en aambeeld staan en leer de basisbegrippen van het smeden. Ervaar het oergevoel om het staal in jouw gewenste vorm te krijgen, maak een flesopener en open je vakantiebiertje met je EIGEN ICER opener !!

Een half uur smeden voor € 5,- , exclusief entreeprijs, informeer bij de receptie (maximaal 8 personen,  grote groepen op aanvraag ! ) 

Voor verdere info zie www.icer.nl aanmelden via aanvraag@icer.euDe DRU komt weer tot leven, de vuren worden weer ontstoken en het ijzer roodgloeiend ! De smid zet het ijzer naar zijn hand middels vuur, aambeeld en hamer.
In Juli en Augustus word wekelijks een "Introductie" workshop #smeden gegeven bij het ICER Innovatiecentrum op het DRU industriepark in Ulft.
Wil jij ook graag eens het gevoel van de smid proeven, kom eens achter onze smidsvuren en aambeeld staan en leer de basisbegrippen van het smeden. Ervaar het oergevoel om het staal in jouw gewenste vorm te krijgen, maak een flesopener en open je vakantiebiertje met je EIGEN ICER opener !!

Een half uur smeden voor € 5,- , exclusief entreeprijs, informeer bij de receptie (maximaal 8 personen,  grote groepen op aanvraag ! ) 

Voor verdere info zie www.icer.nl aanmelden via aanvraag@icer.eu
LAST-MODIFIED:20260425T112247Z
LOCATION:ICER Innovatiecentrum Ulft Hutteweg 32 7071 BV Ulft
SEQUENCE:0
STATUS:CONFIRMED
SUMMARY:"Introductie" Workshop Ijzersmeden DRU Industriepark te Ulft
TRANSP:OPAQUE
END:VEVENT
END:VCALENDAR
