BEGIN:VCALENDAR
PRODID:-//PUBBLE//an agenda//NL
VERSION:2.0
METHOD:PUBLISH
BEGIN:VEVENT
DTSTART:20160705T170500Z
DTEND:20160705T170500Z
DTSTAMP:20260425T040607Z
UID:e8a163c0-0bcb-40d9-802b-f0a309293315
CREATED:20260425T040607Z
URL:https://www.achterhoekfoto.nl/agenda/item/149800
NAME:Bridge gezellig mee in Varsseveld. Kans op een prijsje. Durft U? AchterhoekFoto.nl
X-WR-CALNAME:Bridge gezellig mee in Varsseveld. Kans op een prijsje. Durft U? AchterhoekFoto.nl
X-ALT-DESC;FMTTYPE=text/html:<a href='https://www.achterhoekfoto.nl/agenda/item//149800'>https://achterhoekfoto.nl/agenda/item//149800</a> || <p>BRIDGECLUB VARSSEVELD nodigt deze zomer ALLE bridgers uit, dus ook thuisbridgers. Neemt U de uitdaging aan??</p><p>Bridgeclub Varsseveld heeft in de zomer geen competitie.
We bridgen wel iedere week(in 2 lijnen), maar het zijn ‘losse’ gezellige avonden.

Iedereen is van harte welkom.Deelname slechts 2,00 € per persoon.   Na afloop leuk prijsje voor 1 paar per lijn.

Locatie: Oosters Restaurant “Fu-Hing”,   Kerkplein 11,
               7051CZ Varsseveld.

Dinsdagavond: 5-7; 12-7; 26-7;
                         2-8; 9-8; 16-8; 23-8;

Bridgeparen kunnen zonder aanmelding ’s avonds meedoen.

Uiterlijk aanwezig: 19:05 uur. Aanvang 1e spel: 19:30 uur.
                                               Einde:   22:30 uur.

U kunt zich ook al eerder(vóór 12:00 uur) aanmelden met vermelding van namen  en eventueel NBB-nummers van beide spelers:

 Email-adres: bcvarsseveld@gmail.com

Indien NBB-nummer bekend, worden de MP geregistreerd.

VEEL PLEZIER

 Neemt U de uitdaging aan??

Voorzitter: Willy Nijhof  Tel.:  0315241206
Secretaris: Henk Bruggink  Tel.:  0315843656

 Website:  https://www.nbbclubsites.nl/club/7043</p>
DESCRIPTION:<a href='https://www.achterhoekfoto.nl/agenda/item//149800'>https://www.achterhoekfoto.nl/agenda/item//149800</a> || BRIDGECLUB VARSSEVELD nodigt deze zomer ALLE bridgers uit, dus ook thuisbridgers. Neemt U de uitdaging aan??Bridgeclub Varsseveld heeft in de zomer geen competitie.
We bridgen wel iedere week(in 2 lijnen), maar het zijn ‘losse’ gezellige avonden.

Iedereen is van harte welkom.Deelname slechts 2,00 € per persoon.   Na afloop leuk prijsje voor 1 paar per lijn.

Locatie: Oosters Restaurant “Fu-Hing”,   Kerkplein 11,
               7051CZ Varsseveld.

Dinsdagavond: 5-7; 12-7; 26-7;
                         2-8; 9-8; 16-8; 23-8;

Bridgeparen kunnen zonder aanmelding ’s avonds meedoen.

Uiterlijk aanwezig: 19:05 uur. Aanvang 1e spel: 19:30 uur.
                                               Einde:   22:30 uur.

U kunt zich ook al eerder(vóór 12:00 uur) aanmelden met vermelding van namen  en eventueel NBB-nummers van beide spelers:

 Email-adres: bcvarsseveld@gmail.com

Indien NBB-nummer bekend, worden de MP geregistreerd.

VEEL PLEZIER

 Neemt U de uitdaging aan??

Voorzitter: Willy Nijhof  Tel.:  0315241206
Secretaris: Henk Bruggink  Tel.:  0315843656

 Website:  https://www.nbbclubsites.nl/club/7043
LAST-MODIFIED:20260425T040607Z
LOCATION:Bridgeclub Varsseveld Kerkplein 11 7051 CZ Varsseveld
SEQUENCE:0
STATUS:CONFIRMED
SUMMARY:Bridge gezellig mee in Varsseveld. Kans op een prijsje. Durft U?
TRANSP:OPAQUE
END:VEVENT
END:VCALENDAR
