BEGIN:VCALENDAR
PRODID:-//PUBBLE//an agenda//NL
VERSION:2.0
METHOD:PUBLISH
BEGIN:VEVENT
DTSTART:20160705T170000Z
DTEND:20160830T170000Z
DTSTAMP:20260425T024538Z
UID:37078a3a-f49f-4263-9016-7e50291c725e
CREATED:20260425T024538Z
URL:https://www.achterhoekfoto.nl/agenda/item/149799
NAME:Rondleidingen Synagoge AchterhoekFoto.nl
X-WR-CALNAME:Rondleidingen Synagoge AchterhoekFoto.nl
X-ALT-DESC;FMTTYPE=text/html:<a href='https://www.achterhoekfoto.nl/agenda/item//149799'>https://achterhoekfoto.nl/agenda/item//149799</a> || <p>De unieke synagoge staat aan de Spoorstraat in Winterswijk.</p><p>Achter de synagoge ligt het mikwe (ritueel badhuis). Direct naast de synagoge bevindt zich het joodse schooltje, met hieraan verbonden het huis van de voorganger en leraar. 
Achter de muur ligt de oude joodse begraafplaats, die tot 1889 gebruikt werd.
De synagoge en de erbij behorende gebouwen, het mikwe (ritueel badhuis) en de woning met school, vormen met de oude begraafplaats een geheel, dat niet alleen voor Winterswijk en Gelderland maar voor het hele land van historische waarde is. Het hele complex is een rijksmonument.

Rondeidingen
Kosten: volwassenen     €4.50 euro
Kinderen: vanaf 10 jaar €2,= euro
Rondleiding voor groepen op aanvraag
Groepsprijs: €30,=  + €4,= per persoon & €2,= voor kinderen

Een rondleiding duurt ongeveer 1½ uur. Op zaterdag en joodse feestdagen zijn er geen rondleidingen.
Alle mannelijke bezoeker dragen een hoofdbedekking dit kan ook een zelf meegebrachte pet zijn. In de synagoge is een hoofd bedekking aanwezig.

Contact</p>
DESCRIPTION:<a href='https://www.achterhoekfoto.nl/agenda/item//149799'>https://www.achterhoekfoto.nl/agenda/item//149799</a> || De unieke synagoge staat aan de Spoorstraat in Winterswijk.Achter de synagoge ligt het mikwe (ritueel badhuis). Direct naast de synagoge bevindt zich het joodse schooltje, met hieraan verbonden het huis van de voorganger en leraar. 
Achter de muur ligt de oude joodse begraafplaats, die tot 1889 gebruikt werd.
De synagoge en de erbij behorende gebouwen, het mikwe (ritueel badhuis) en de woning met school, vormen met de oude begraafplaats een geheel, dat niet alleen voor Winterswijk en Gelderland maar voor het hele land van historische waarde is. Het hele complex is een rijksmonument.

Rondeidingen
Kosten: volwassenen     €4.50 euro
Kinderen: vanaf 10 jaar €2,= euro
Rondleiding voor groepen op aanvraag
Groepsprijs: €30,=  + €4,= per persoon & €2,= voor kinderen

Een rondleiding duurt ongeveer 1½ uur. Op zaterdag en joodse feestdagen zijn er geen rondleidingen.
Alle mannelijke bezoeker dragen een hoofdbedekking dit kan ook een zelf meegebrachte pet zijn. In de synagoge is een hoofd bedekking aanwezig.

Contact
LAST-MODIFIED:20260425T024538Z
LOCATION:Winterswijk Marketing Spoorstraat 34 7101 GV Winterswijk
SEQUENCE:0
STATUS:CONFIRMED
SUMMARY:Rondleidingen Synagoge
TRANSP:OPAQUE
END:VEVENT
END:VCALENDAR
