BEGIN:VCALENDAR
PRODID:-//PUBBLE//an agenda//NL
VERSION:2.0
METHOD:PUBLISH
BEGIN:VEVENT
DTSTART:20160705T130000Z
DTEND:20160901T130000Z
DTSTAMP:20260424T231152Z
UID:1b68de5d-bdc0-42b8-8879-21a6c2cb8049
CREATED:20260424T231152Z
URL:https://www.achterhoekfoto.nl/agenda/item/149796
NAME:Vaste stadswandelingen AchterhoekFoto.nl
X-WR-CALNAME:Vaste stadswandelingen AchterhoekFoto.nl
X-ALT-DESC;FMTTYPE=text/html:<a href='https://www.achterhoekfoto.nl/agenda/item//149796'>https://achterhoekfoto.nl/agenda/item//149796</a> || <p>wandel mee met de gids!</p><p>Ieder jaar in de zomervakantie is er de mogelijkheid om aan te sluiten bij onze stadsgids. Zij nemen u mee door onze prachtige binnenstad en vertellen u alle weetjes en leiden u langs prachtige plekjes die onze Hanzestad te bieden heeft.
De stadswandelingen zijn op dinsdag en donderdagmiddag om 15.00 uur.
Vooraf kunt het kaartje kopen bij de VVV, Gasthuisstraat 13, 6981 CP Doesburg.
Kosten bedragen € 2,75 p.p. en voor kinderen 4-12 jaar € 1,75 p.p.</p>
DESCRIPTION:<a href='https://www.achterhoekfoto.nl/agenda/item//149796'>https://www.achterhoekfoto.nl/agenda/item//149796</a> || wandel mee met de gids!Ieder jaar in de zomervakantie is er de mogelijkheid om aan te sluiten bij onze stadsgids. Zij nemen u mee door onze prachtige binnenstad en vertellen u alle weetjes en leiden u langs prachtige plekjes die onze Hanzestad te bieden heeft.
De stadswandelingen zijn op dinsdag en donderdagmiddag om 15.00 uur.
Vooraf kunt het kaartje kopen bij de VVV, Gasthuisstraat 13, 6981 CP Doesburg.
Kosten bedragen € 2,75 p.p. en voor kinderen 4-12 jaar € 1,75 p.p.
LAST-MODIFIED:20260424T231152Z
LOCATION:VVV Doesburg Gasthuisstraat 13 6981CP Doesburg
SEQUENCE:0
STATUS:CONFIRMED
SUMMARY:Vaste stadswandelingen
TRANSP:OPAQUE
END:VEVENT
END:VCALENDAR
