BEGIN:VCALENDAR
PRODID:-//PUBBLE//an agenda//NL
VERSION:2.0
METHOD:PUBLISH
BEGIN:VEVENT
DTSTART:20160705T113000Z
DTEND:20160705T113000Z
DTSTAMP:20260424T203459Z
UID:3e671926-adb5-4e95-93d4-6e776aab18b9
CREATED:20260424T203459Z
URL:https://www.achterhoekfoto.nl/agenda/item/149792
NAME:"Introductie" Workshop Emailleren,  DRU industriepark Ulft AchterhoekFoto.nl
X-WR-CALNAME:"Introductie" Workshop Emailleren,  DRU industriepark Ulft AchterhoekFoto.nl
X-ALT-DESC;FMTTYPE=text/html:<a href='https://www.achterhoekfoto.nl/agenda/item//149792'>https://achterhoekfoto.nl/agenda/item//149792</a> || <p>Maak kennis met Emaille , "Ïntroductie" workshop Emailleren.</p><p>Waar ooit de fameuze terracottakleurige DRU pannen werden geemailleerd introduceren we je nu in de wereld van het emailleren. 
"In het Oude Egypte werd email toegepast bij aardewerk en bij gouden, bronzen en stenen voorwerpen. Door de Kelten werd email gebruikt in de vervaardiging van sieraden, vaak in bonte kleuren", bron wikipedia ! " De diverse kleuren "glas" worden in de oven op het koperen plaatje gebrand, deskundige ondersteuning van ICER mensen helpen je op weg naar je eigen unieke sieraad !

Ontdek je latente talent ,doe mee en laat thuis zien wat je "in huis hebt" 

Voor een bijdrage van € 5,-  exclusief entreekosten kan je een half uur deelnemen aan deze introductie workshop ,meld je aan bij de receptie ( maximaal 12 personen , grote groepen op afspraak ! )</p>
DESCRIPTION:<a href='https://www.achterhoekfoto.nl/agenda/item//149792'>https://www.achterhoekfoto.nl/agenda/item//149792</a> || Maak kennis met Emaille , "Ïntroductie" workshop Emailleren.Waar ooit de fameuze terracottakleurige DRU pannen werden geemailleerd introduceren we je nu in de wereld van het emailleren. 
"In het Oude Egypte werd email toegepast bij aardewerk en bij gouden, bronzen en stenen voorwerpen. Door de Kelten werd email gebruikt in de vervaardiging van sieraden, vaak in bonte kleuren", bron wikipedia ! " De diverse kleuren "glas" worden in de oven op het koperen plaatje gebrand, deskundige ondersteuning van ICER mensen helpen je op weg naar je eigen unieke sieraad !

Ontdek je latente talent ,doe mee en laat thuis zien wat je "in huis hebt" 

Voor een bijdrage van € 5,-  exclusief entreekosten kan je een half uur deelnemen aan deze introductie workshop ,meld je aan bij de receptie ( maximaal 12 personen , grote groepen op afspraak ! )
LAST-MODIFIED:20260424T203459Z
LOCATION:ICER Innovatiecentrum Ulft Hutteweg 32 7071 BV Ulft
SEQUENCE:0
STATUS:CONFIRMED
SUMMARY:"Introductie" Workshop Emailleren,  DRU industriepark Ulft
TRANSP:OPAQUE
END:VEVENT
END:VCALENDAR
